BEGIN:VCALENDAR
VERSION:2.0
PRODID:-//Lemon Bay Conservancy - ECPv6.15.18//NONSGML v1.0//EN
CALSCALE:GREGORIAN
METHOD:PUBLISH
X-WR-CALNAME:Lemon Bay Conservancy
X-ORIGINAL-URL:https://lemonbayconservancy.org
X-WR-CALDESC:Events for Lemon Bay Conservancy
REFRESH-INTERVAL;VALUE=DURATION:PT1H
X-Robots-Tag:noindex
X-PUBLISHED-TTL:PT1H
BEGIN:VTIMEZONE
TZID:America/New_York
BEGIN:DAYLIGHT
TZOFFSETFROM:-0500
TZOFFSETTO:-0400
TZNAME:EDT
DTSTART:20230312T070000
END:DAYLIGHT
BEGIN:STANDARD
TZOFFSETFROM:-0400
TZOFFSETTO:-0500
TZNAME:EST
DTSTART:20231105T060000
END:STANDARD
BEGIN:DAYLIGHT
TZOFFSETFROM:-0500
TZOFFSETTO:-0400
TZNAME:EDT
DTSTART:20240310T070000
END:DAYLIGHT
BEGIN:STANDARD
TZOFFSETFROM:-0400
TZOFFSETTO:-0500
TZNAME:EST
DTSTART:20241103T060000
END:STANDARD
BEGIN:DAYLIGHT
TZOFFSETFROM:-0500
TZOFFSETTO:-0400
TZNAME:EDT
DTSTART:20250309T070000
END:DAYLIGHT
BEGIN:STANDARD
TZOFFSETFROM:-0400
TZOFFSETTO:-0500
TZNAME:EST
DTSTART:20251102T060000
END:STANDARD
END:VTIMEZONE
BEGIN:VEVENT
DTSTART;TZID=America/New_York:20240314T090000
DTEND;TZID=America/New_York:20240314T100000
DTSTAMP:20260421T171705
CREATED:20231006T201606Z
LAST-MODIFIED:20240216T205026Z
UID:10000515-1710406800-1710410400@lemonbayconservancy.org
SUMMARY:Butterfly and Plant Tour
DESCRIPTION:Maura Qualls and Ann Weaver will lead a walking tour through the Lemon Creek Wildflower Preserve Butterfly Habitat on Thursday\, March 14 \, 2024 at 9:00 am meeting at the Members entrance area. Join us as we examine the many plants\, flowers\, and pollinators that are present in our garden.We will offer discussions on how you can establish your own native butterfly and pollinator habitat and will provide an up-close look at nectar and host plants\, both native and Florida friendly. Please bring your binoculars\, cameras\, water bottles\, sunscreen\, and bug repellent. All participants should wear comfortable\, protective attire\, especially footwear.
URL:https://lemonbayconservancy.org/event/butterfly-and-plant-tour/
LOCATION:Lemon Creek Wildflower Preserve\, 3120 Gasparilla Pines Blvd\, Englewood\, FL 34224\, 3120 Gasparilla Pines Blvd.\, Englewood\, FL\, 34224\, United States
CATEGORIES:Community Event,Educational,General
ATTACH;FMTTYPE=image/jpeg:https://lemonbayconservancy.org/wp-content/uploads/2022/01/Long-tailed-skipper-FL-yard-1.7.22-Bill-Dunson-IMG_5636.jpg
GEO:26.8816513;-82.3049401
X-APPLE-STRUCTURED-LOCATION;VALUE=URI;X-ADDRESS=Lemon Creek Wildflower Preserve 3120 Gasparilla Pines Blvd Englewood FL 34224 3120 Gasparilla Pines Blvd. Englewood FL 34224 United States;X-APPLE-RADIUS=500;X-TITLE=3120 Gasparilla Pines Blvd.:geo:-82.3049401,26.8816513
END:VEVENT
BEGIN:VEVENT
DTSTART;TZID=America/New_York:20240314T173000
DTEND;TZID=America/New_York:20240314T193000
DTSTAMP:20260421T171705
CREATED:20240129T151320Z
LAST-MODIFIED:20240129T151320Z
UID:10000802-1710437400-1710444600@lemonbayconservancy.org
SUMMARY:Coastal Seminar Series Lecture
DESCRIPTION:“Blooms of Blue-green Algae and Red Tide in South Florida” – Dr. Larry Brand\, Professor\, University of Miami Rosenstiel School is our featured speaker for the month of March. \nDr. Larry Brand\, University of Miami\, Rosenstiel School\, Department of Marine Biology and Ecology Harmful algal blooms\, Phytoplankton ecology: \nhttps://people.miami.edu/profile/64d610c69b0240abed4867730ac275b0 \nhttps://www.youtube.com/watch?v=1RfF1sJrQwY \nAll programs will be held at the Cape Haze Community Center located at 180 Spyglass Alley\, Placida\, FL 33946\, at the intersection of Spyglass Alley and Spaniards Road. Parking is available on both streets. To reach the Community Center from Placida Road (Hwy. 775)\, turn west onto Cape Haze Drive. At the traffic circle\, take the first right (heading north) onto Spaniards Rd. The Community Center will be just ahead on your left. Refreshments will be available at 5:30 p.m. and the program will begin at 6:00 p.m. The seminars are free and open to the public. \nNext month we will conclude our series of seminars with our final lecture of the season: \nApril 11th: “Roseate Spoonbills In Florida Bay – A Pink Canary in a Coal Mine” – Dr. Jerry Lorenz\, State Director of Research\, Florida Audubon \nFor more information on the seminars along with many more local events and opportunities sponsored by Lemon Bay Conservancy at www.lemonbayconservancy.org or (941) 830-8922
URL:https://lemonbayconservancy.org/event/coastal-seminar-series-lecture-4/
LOCATION:Cape Haze Community Center\, 180 Spyglass Aly\, Placida 33946\, 180 Spyglass Alley\, Placida\, FL\, 33946\, United States
CATEGORIES:Community Event,Educational,General
ATTACH;FMTTYPE=image/jpeg:https://lemonbayconservancy.org/wp-content/uploads/2024/01/2024-Lemon-Bay-Coastal-Seminar-Series-at-Cape-Haze-scaled.jpg
ORGANIZER;CN="Lemon Bay Conservancy":MAILTO:lbconservancy@comcast.net
GEO:26.852842;-82.2922033
X-APPLE-STRUCTURED-LOCATION;VALUE=URI;X-ADDRESS=Cape Haze Community Center 180 Spyglass Aly Placida 33946 180 Spyglass Alley Placida FL 33946 United States;X-APPLE-RADIUS=500;X-TITLE=180 Spyglass Alley:geo:-82.2922033,26.852842
END:VEVENT
BEGIN:VEVENT
DTSTART;TZID=America/New_York:20240316T080000
DTEND;TZID=America/New_York:20240316T103000
DTSTAMP:20260421T171705
CREATED:20240129T161957Z
LAST-MODIFIED:20240129T161957Z
UID:10001712-1710576000-1710585000@lemonbayconservancy.org
SUMMARY:Tarpon Net Pull
DESCRIPTION:Attention all new and returning Tarpon net pull volunteers\, we will conduct our next Tarpon pull event on Saturday\, March 16\, 2024 at 8:00 am. We will first need to load the seine net and other equipment in the Jon boat before using our UTV to tow the boat over to the ponds located by Fiddlers Green. Please use the Lemon Creek Wildflower Preserve parking lot and plan to meet at the equipment shed at 7:45 am. After we have finished loading up\, you can then drive your vehicle over to Fiddlers Green and use the carpark there for your convenience. The actual net pull will get underway around 8:30 am starting with the smaller of the two ponds. If you have waders please bring them along with gloves\, a hat\, water and mosquito repellant. Please contact Malcolm Collingwood at 917-915-1076 or malcolmcollingwood@gmail.com to RSVP for the event. This event is open to everyone in the local community that is interested in participating.
URL:https://lemonbayconservancy.org/event/tarpon-net-pull-3/
LOCATION:Lemon Creek Wildflower Preserve\, 3120 Gasparilla Pines Blvd\, Englewood\, FL 34224\, 3120 Gasparilla Pines Blvd.\, Englewood\, FL\, 34224\, United States
CATEGORIES:Community Event,Educational,General,LBC Member Event
ATTACH;FMTTYPE=image/jpeg:https://lemonbayconservancy.org/wp-content/uploads/2013/11/Furner_Jan2012_1126.jpg
GEO:26.8816513;-82.3049401
X-APPLE-STRUCTURED-LOCATION;VALUE=URI;X-ADDRESS=Lemon Creek Wildflower Preserve 3120 Gasparilla Pines Blvd Englewood FL 34224 3120 Gasparilla Pines Blvd. Englewood FL 34224 United States;X-APPLE-RADIUS=500;X-TITLE=3120 Gasparilla Pines Blvd.:geo:-82.3049401,26.8816513
END:VEVENT
BEGIN:VEVENT
DTSTART;TZID=America/New_York:20240327T170000
DTEND;TZID=America/New_York:20240327T180000
DTSTAMP:20260421T171705
CREATED:20240216T205541Z
LAST-MODIFIED:20240229T215007Z
UID:10001791-1711558800-1711562400@lemonbayconservancy.org
SUMMARY:Labyrinth on the Hill Guided Walk
DESCRIPTION:The Labyrinth on the Hill monthly guided walk is Wednesday\, March 27\, 2024 from 5:00 pm to 6:00 pm at Lemon Creek Wildflower Preserve\, 3120 Gasparilla Pines Boulevard\, Englewood\, Fl. Located at the top of a berm  overlooking all four directions of the Preserve\, the labyrinth offers walkers a winding\, circular\, path that leads participants to the center and then back out again. This is a meditative\, peaceful walk that offers a spectacular view. Each walk includes simple guidelines on how to walk the labyrinth\, a time for sharing\, opportunities for personal reflection\, extended learning\, and Q/A. These is a public event and all are welcome to join the journey.
URL:https://lemonbayconservancy.org/event/labyrinth-on-the-hill-guided-walk-2/
LOCATION:Lemon Creek Wildflower Preserve\, 3120 Gasparilla Pines Blvd\, Englewood\, FL 34224\, 3120 Gasparilla Pines Blvd.\, Englewood\, FL\, 34224\, United States
CATEGORIES:Community Event,Educational,General,Labyrinth
ATTACH;FMTTYPE=image/jpeg:https://lemonbayconservancy.org/wp-content/uploads/2024/02/D3591146-498A-423E-997E-159DB677A811-scaled-e1709243356569.jpeg
GEO:26.8816513;-82.3049401
X-APPLE-STRUCTURED-LOCATION;VALUE=URI;X-ADDRESS=Lemon Creek Wildflower Preserve 3120 Gasparilla Pines Blvd Englewood FL 34224 3120 Gasparilla Pines Blvd. Englewood FL 34224 United States;X-APPLE-RADIUS=500;X-TITLE=3120 Gasparilla Pines Blvd.:geo:-82.3049401,26.8816513
END:VEVENT
END:VCALENDAR