BEGIN:VCALENDAR
VERSION:2.0
PRODID:-//Lemon Bay Conservancy - ECPv6.15.18//NONSGML v1.0//EN
CALSCALE:GREGORIAN
METHOD:PUBLISH
X-ORIGINAL-URL:https://lemonbayconservancy.org
X-WR-CALDESC:Events for Lemon Bay Conservancy
REFRESH-INTERVAL;VALUE=DURATION:PT1H
X-Robots-Tag:noindex
X-PUBLISHED-TTL:PT1H
BEGIN:VTIMEZONE
TZID:America/New_York
BEGIN:DAYLIGHT
TZOFFSETFROM:-0500
TZOFFSETTO:-0400
TZNAME:EDT
DTSTART:20250309T070000
END:DAYLIGHT
BEGIN:STANDARD
TZOFFSETFROM:-0400
TZOFFSETTO:-0500
TZNAME:EST
DTSTART:20251102T060000
END:STANDARD
BEGIN:DAYLIGHT
TZOFFSETFROM:-0500
TZOFFSETTO:-0400
TZNAME:EDT
DTSTART:20260308T070000
END:DAYLIGHT
BEGIN:STANDARD
TZOFFSETFROM:-0400
TZOFFSETTO:-0500
TZNAME:EST
DTSTART:20261101T060000
END:STANDARD
BEGIN:DAYLIGHT
TZOFFSETFROM:-0500
TZOFFSETTO:-0400
TZNAME:EDT
DTSTART:20270314T070000
END:DAYLIGHT
BEGIN:STANDARD
TZOFFSETFROM:-0400
TZOFFSETTO:-0500
TZNAME:EST
DTSTART:20271107T060000
END:STANDARD
END:VTIMEZONE
BEGIN:VEVENT
DTSTART;TZID=America/New_York:20260101T100000
DTEND;TZID=America/New_York:20260101T110000
DTSTAMP:20260421T081852
CREATED:20251130T190540Z
LAST-MODIFIED:20251227T185142Z
UID:10046359-1767261600-1767265200@lemonbayconservancy.org
SUMMARY:New Year's Day Nature Walk and Picnic Lunch at Middle Beach/Blind Pass
DESCRIPTION:Dr. Bill Dunson will lead a nature walk on Thursday\, Jan. 1\, 2026\, from 10-11 am at Middle Beach/Blind Pass Beach Park on Manasota Key; (6725 Manasota Key Rd\, Englewood\, FL 34223).  Come make a great start to the New Year\, burn off a few calories\, and learn and share some nature lore.  The entire walk is less than a mile\, on narrow trails and the beach. \nWe will meet at 10 am in the parking area near where the old Duisberg Trail starts (https://floridahikes.com/lemon-bay-conservancy-duisberg-nature-trail).  Turn east into the main parking area and take the first left.  Note that Middle Beach is currently only accessible from the southern end of Manasota Key as the road to the north of that point has not been repaired since Hurricanes Helene and Milton. \nThe park was heavily damaged by the storm\, but we will explore remaining areas of mangroves\, upland subtropical hammocks\, dune habitat\, and the mangrove boardwalk.  The main bayside area of the park was dredge spoil from the construction of the ICW in the late 1960’s. \nYou are required to sign a liability waiver.  No dogs or smoking/vaping allowed.  No reservations are required for the walk. \nFollowing the walk\, there will be a cook-out and pot-luck at Bill’s home.  There is a limit of 40 people for lunch and reservations are required.  Send your name and number of attendees to Bill at wdunson@comcast.net.  Bill will provide additional details to confirmed participants. \nFor further information contact Bill Dunson (wdunson@comcast.net)  (NOTE:  LUNCH RESRVATIONS ARE NOW AT CAPACITY.) \n 
URL:https://lemonbayconservancy.org/event/new-years-day-nature-walk-and-picnic-lunch-at-middle-beach-blind-pass/
LOCATION:Blind Pass Park (Middle Beach)\,  6725 Manasota Key Rd\, Englewood\, 34223
CATEGORIES:Educational,Nature Walk
ATTACH;FMTTYPE=image/jpeg:https://lemonbayconservancy.org/wp-content/uploads/2017/02/Birds-on-Englewood-beach-with-people-1.31.17-Bill-Dunson-IMG_8131-aa.jpg
GEO:26.96402;-82.379817
X-APPLE-STRUCTURED-LOCATION;VALUE=URI;X-ADDRESS=Blind Pass Park (Middle Beach)  6725 Manasota Key Rd Englewood 34223;X-APPLE-RADIUS=500;X-TITLE=6725 Manasota Key Rd:geo:-82.379817,26.96402
END:VEVENT
BEGIN:VEVENT
DTSTART;TZID=America/New_York:20260115T090000
DTEND;TZID=America/New_York:20260115T100000
DTSTAMP:20260421T081852
CREATED:20250923T173238Z
LAST-MODIFIED:20260313T130057Z
UID:10046263-1768467600-1768471200@lemonbayconservancy.org
SUMMARY:Butterfly and Plant Tour
DESCRIPTION:Maura Qualls and Ann Weaver will lead a walking tour through the Lemon Creek Wildflower Preserve Butterfly Habitat at 9:00 am\, meeting at the Members entrance area. Join us as we examine the many plants\, flowers\, and pollinators that are present in our garden. We will offer discussions on how you can establish your own native butterfly and pollinator habitat and will provide an up-close look at nectar and host plants\, both native and Florida friendly. Please bring your binoculars\, cameras\, water bottles\, sunscreen\, and bug repellent. All participants should wear comfortable\, protective attire\, especially footwear.
URL:https://lemonbayconservancy.org/event/butterfly-and-plant-tour-10/2026-01-15/
LOCATION:Lemon Creek Wildflower Preserve\, 3120 Gasparilla Pines Blvd\, Englewood\, FL 34224\, 3120 Gasparilla Pines Blvd.\, Englewood\, FL\, 34224\, United States
CATEGORIES:Community Event,Educational,General
ATTACH;FMTTYPE=image/jpeg:https://lemonbayconservancy.org/wp-content/uploads/2022/01/Long-tailed-skipper-FL-yard-1.7.22-Bill-Dunson-IMG_5636.jpg
GEO:26.8816513;-82.3049401
X-APPLE-STRUCTURED-LOCATION;VALUE=URI;X-ADDRESS=Lemon Creek Wildflower Preserve 3120 Gasparilla Pines Blvd Englewood FL 34224 3120 Gasparilla Pines Blvd. Englewood FL 34224 United States;X-APPLE-RADIUS=500;X-TITLE=3120 Gasparilla Pines Blvd.:geo:-82.3049401,26.8816513
END:VEVENT
BEGIN:VEVENT
DTSTART;TZID=America/New_York:20260117T080000
DTEND;TZID=America/New_York:20260117T103000
DTSTAMP:20260421T081852
CREATED:20251017T134910Z
LAST-MODIFIED:20251017T134910Z
UID:10046334-1768636800-1768645800@lemonbayconservancy.org
SUMMARY:Juvenile Tarpon Research Net Pull
DESCRIPTION:Attention all new and returning Tarpon net pull volunteers\, are invited to participate in our  Tarpon pull event.  We will first need to load the seine net and other equipment in the Jon boat before using our UTV to tow the boat over to the ponds located by Fiddlers Green. Please use the Lemon Creek Wildflower Preserve parking lot and plan to meet at the equipment shed at 7:45 am. After we have finished loading up\, you can then drive your vehicle over to Fiddlers Green and use the carpark there for your convenience. The actual net pull will get underway around 8:30 am starting with the smaller of the two ponds. If you have waders please bring them along with gloves\, a hat\, water and mosquito repellant. Please contact Malcolm Collingwood at 917-915-1076 or malcolmcollingwood@gmail.com to RSVP for the event. This event is open to everyone in the local community that is interested in participating.
URL:https://lemonbayconservancy.org/event/juvenile-tarpon-research-net-pull-4/2026-01-17/
LOCATION:Lemon Creek Wildflower Preserve\, 3120 Gasparilla Pines Blvd\, Englewood\, FL 34224\, 3120 Gasparilla Pines Blvd.\, Englewood\, FL\, 34224\, United States
CATEGORIES:Community Event,Educational,General,LBC Member Event,Tarpon Tagging,Volunteer Opportunities
ATTACH;FMTTYPE=image/jpeg:https://lemonbayconservancy.org/wp-content/uploads/2013/11/Furner_Jan2012_1126.jpg
GEO:26.8816513;-82.3049401
X-APPLE-STRUCTURED-LOCATION;VALUE=URI;X-ADDRESS=Lemon Creek Wildflower Preserve 3120 Gasparilla Pines Blvd Englewood FL 34224 3120 Gasparilla Pines Blvd. Englewood FL 34224 United States;X-APPLE-RADIUS=500;X-TITLE=3120 Gasparilla Pines Blvd.:geo:-82.3049401,26.8816513
END:VEVENT
END:VCALENDAR