BEGIN:VCALENDAR
VERSION:2.0
PRODID:-//Lemon Bay Conservancy - ECPv6.15.18//NONSGML v1.0//EN
CALSCALE:GREGORIAN
METHOD:PUBLISH
X-ORIGINAL-URL:https://lemonbayconservancy.org
X-WR-CALDESC:Events for Lemon Bay Conservancy
REFRESH-INTERVAL;VALUE=DURATION:PT1H
X-Robots-Tag:noindex
X-PUBLISHED-TTL:PT1H
BEGIN:VTIMEZONE
TZID:America/New_York
BEGIN:DAYLIGHT
TZOFFSETFROM:-0500
TZOFFSETTO:-0400
TZNAME:EDT
DTSTART:20220313T070000
END:DAYLIGHT
BEGIN:STANDARD
TZOFFSETFROM:-0400
TZOFFSETTO:-0500
TZNAME:EST
DTSTART:20221106T060000
END:STANDARD
BEGIN:DAYLIGHT
TZOFFSETFROM:-0500
TZOFFSETTO:-0400
TZNAME:EDT
DTSTART:20230312T070000
END:DAYLIGHT
BEGIN:STANDARD
TZOFFSETFROM:-0400
TZOFFSETTO:-0500
TZNAME:EST
DTSTART:20231105T060000
END:STANDARD
BEGIN:DAYLIGHT
TZOFFSETFROM:-0500
TZOFFSETTO:-0400
TZNAME:EDT
DTSTART:20240310T070000
END:DAYLIGHT
BEGIN:STANDARD
TZOFFSETFROM:-0400
TZOFFSETTO:-0500
TZNAME:EST
DTSTART:20241103T060000
END:STANDARD
END:VTIMEZONE
BEGIN:VEVENT
DTSTART;TZID=America/New_York:20231204T093000
DTEND;TZID=America/New_York:20231204T113000
DTSTAMP:20260422T115431
CREATED:20231006T190219Z
LAST-MODIFIED:20231121T210128Z
UID:10000508-1701682200-1701689400@lemonbayconservancy.org
SUMMARY:Lemon Bay Guided Paddle Tour
DESCRIPTION:Lemon Bay Conservancy invites you to announce join our paddle team for our next guided paddle tour in Lemon Bay:\n\n\nThis guided paddle will be on  December 4 \,  2023 at Oyster Creek Boat Ramp on Placida Rd.  Launch is scheduled for 9:30 am prompt\, please be sure to arrive on time.  This paddle is the second in our series of guided tours that will include an exploration along the north shore line around Lemon Bay. Examining both the positive and not so positive shore line conditions we observe\, the impact on our sea grasses will be an ideal topic for group discussion. This trip will be approximately 2 hours long\, depending on weather conditions.\n\n\n\n\nWind and conditions will dictate direction and destination for all paddles. The variety of paddler’s abilities will be taken in to consideration in order to determine how far the group will go. We recommend  that participants  be able to paddle comfortably for a minimum of 2 hours. Paddlers must provide their own kayaks\, paddles\, PDF\, whistle\, sunscreen\, water and a sense of humor. Participants are requested to sign up Sunday by 6 pm by calling either Charlie Woodruff at 914-799-0664 or the LBC office at 941-830-8922.
URL:https://lemonbayconservancy.org/event/lemon-bay-guided-paddle-tour-3/
LOCATION:Oyster Creek Environmental Park – Kayak Ramp\, 2333 Placida Rd.\, 2333 Placida Rd.\, Englewood\, FL\, 34223\, United States
CATEGORIES:Community Event,General,LBC Member Event
ATTACH;FMTTYPE=image/jpeg:https://lemonbayconservancy.org/wp-content/uploads/2017/03/Myakka-R-paddle-starting-from-quarry-Jayne-in-kayak-3.19.17-Bill-Dunson-IMG_9024-aa.jpg
GEO:26.9569438;-82.3627556
X-APPLE-STRUCTURED-LOCATION;VALUE=URI;X-ADDRESS=Oyster Creek Environmental Park – Kayak Ramp 2333 Placida Rd. 2333 Placida Rd. Englewood FL 34223 United States;X-APPLE-RADIUS=500;X-TITLE=2333 Placida Rd.:geo:-82.3627556,26.9569438
END:VEVENT
BEGIN:VEVENT
DTSTART;TZID=America/New_York:20231218T093000
DTEND;TZID=America/New_York:20231218T113000
DTSTAMP:20260422T115431
CREATED:20231006T190647Z
LAST-MODIFIED:20231121T205815Z
UID:10000509-1702891800-1702899000@lemonbayconservancy.org
SUMMARY:Lemon Bay Guided Paddle Tour
DESCRIPTION:Lemon Bay Conservancy invites you to announce join our paddle team for our last guided paddle tour for 2023 in Lemon Bay:\n\n\nThis guided paddle will be on  December 18 \,  Oyster Creek Boat Ramp Placida Rd.  Launch is scheduled for 9:30 am prompt\, please be sure to arrive on time.  This paddle is the second in our series of guided tours that will include an exploration along the south shore line around Lemon Bay. Examining both the positive and not so positive shore line conditions we observe\, the impact on our sea grasses will be an ideal topic for group discussion. This trip will be approximately 2 hours long\, depending on weather conditions.\n\n\n\n\nWind and conditions will dictate direction and destination for all paddles. The variety of paddler’s abilities will be taken in to consideration in order to determine how far the group will go. We recommend  that participants  be able to paddle comfortably for a minimum of 2 hours. Paddlers must provide their own kayaks\, paddles\, PDF\, whistle\, sunscreen\, water and a sense of humor. Participants are requested to sign up Sunday by 6 pm by calling either Charlie Woodruff at 914-799-0664 or the LBC office at 941-830-8922.
URL:https://lemonbayconservancy.org/event/lemon-bay-guided-paddle-tour-4/
LOCATION:Oyster Creek Environmental Park – Kayak Ramp\, 2333 Placida Rd.\, 2333 Placida Rd.\, Englewood\, FL\, 34223\, United States
CATEGORIES:Community Event,General,LBC Member Event
ATTACH;FMTTYPE=image/jpeg:https://lemonbayconservancy.org/wp-content/uploads/2017/03/Myakka-R-paddle-starting-from-quarry-Jayne-in-kayak-3.19.17-Bill-Dunson-IMG_9024-aa.jpg
GEO:26.9569438;-82.3627556
X-APPLE-STRUCTURED-LOCATION;VALUE=URI;X-ADDRESS=Oyster Creek Environmental Park – Kayak Ramp 2333 Placida Rd. 2333 Placida Rd. Englewood FL 34223 United States;X-APPLE-RADIUS=500;X-TITLE=2333 Placida Rd.:geo:-82.3627556,26.9569438
END:VEVENT
END:VCALENDAR