BEGIN:VCALENDAR
VERSION:2.0
PRODID:-//Lemon Bay Conservancy - ECPv6.15.18//NONSGML v1.0//EN
CALSCALE:GREGORIAN
METHOD:PUBLISH
X-ORIGINAL-URL:https://lemonbayconservancy.org
X-WR-CALDESC:Events for Lemon Bay Conservancy
REFRESH-INTERVAL;VALUE=DURATION:PT1H
X-Robots-Tag:noindex
X-PUBLISHED-TTL:PT1H
BEGIN:VTIMEZONE
TZID:America/New_York
BEGIN:DAYLIGHT
TZOFFSETFROM:-0500
TZOFFSETTO:-0400
TZNAME:EDT
DTSTART:20230312T070000
END:DAYLIGHT
BEGIN:STANDARD
TZOFFSETFROM:-0400
TZOFFSETTO:-0500
TZNAME:EST
DTSTART:20231105T060000
END:STANDARD
BEGIN:DAYLIGHT
TZOFFSETFROM:-0500
TZOFFSETTO:-0400
TZNAME:EDT
DTSTART:20240310T070000
END:DAYLIGHT
BEGIN:STANDARD
TZOFFSETFROM:-0400
TZOFFSETTO:-0500
TZNAME:EST
DTSTART:20241103T060000
END:STANDARD
BEGIN:DAYLIGHT
TZOFFSETFROM:-0500
TZOFFSETTO:-0400
TZNAME:EDT
DTSTART:20250309T070000
END:DAYLIGHT
BEGIN:STANDARD
TZOFFSETFROM:-0400
TZOFFSETTO:-0500
TZNAME:EST
DTSTART:20251102T060000
END:STANDARD
END:VTIMEZONE
BEGIN:VEVENT
DTSTART;TZID=America/New_York:20240120T080000
DTEND;TZID=America/New_York:20240120T103000
DTSTAMP:20260422T095541
CREATED:20231006T192849Z
LAST-MODIFIED:20240102T151118Z
UID:10000511-1705737600-1705746600@lemonbayconservancy.org
SUMMARY:Tarpon Net Pull
DESCRIPTION:Attention all new and returning Tarpon net pull volunteers\, we will conduct our next Tarpon pull event on Saturday\, January 20\, 2024 at 8:00 am. We will first need to load the seine net and other equipment in the Jon boat before using our UTV to tow the boat over to the ponds located by Fiddlers Green. Please use the Lemon Creek Wildflower Preserve parking lot and plan to meet at the equipment shed at 7:45 am. After we have finished loading up\, you can then drive your vehicle over to Fiddlers Green and use the carpark there for your convenience. The actual net pull will get underway around 8:30 am starting with the smaller of the two ponds. If you have waders please bring them along with gloves\, a hat\, water and mosquito repellant. Please contact Malcolm Collingwood at 917-915-1076 or malcolmcollingwood@gmail.com to RSVP for the event. This event is open to everyone in the local community that is interested in participating.
URL:https://lemonbayconservancy.org/event/tarpon-net-pull/
LOCATION:Lemon Creek Wildflower Preserve\, 3120 Gasparilla Pines Blvd\, Englewood\, FL 34224\, 3120 Gasparilla Pines Blvd.\, Englewood\, FL\, 34224\, United States
CATEGORIES:Community Event,Educational,General,LBC Member Event
ATTACH;FMTTYPE=image/jpeg:https://lemonbayconservancy.org/wp-content/uploads/2013/11/Furner_Jan2012_1126.jpg
GEO:26.8816513;-82.3049401
X-APPLE-STRUCTURED-LOCATION;VALUE=URI;X-ADDRESS=Lemon Creek Wildflower Preserve 3120 Gasparilla Pines Blvd Englewood FL 34224 3120 Gasparilla Pines Blvd. Englewood FL 34224 United States;X-APPLE-RADIUS=500;X-TITLE=3120 Gasparilla Pines Blvd.:geo:-82.3049401,26.8816513
END:VEVENT
BEGIN:VEVENT
DTSTART;TZID=America/New_York:20240122T093000
DTEND;TZID=America/New_York:20240122T113000
DTSTAMP:20260422T095541
CREATED:20240115T222012Z
LAST-MODIFIED:20240115T222012Z
UID:10001602-1705915800-1705923000@lemonbayconservancy.org
SUMMARY:LBC Members Eco Kayak Tour
DESCRIPTION:Join paddle team members Charlie Woodruff\, Jayne Dean and Beth McKinley as they explore the ecology of Lemon Bay and its fascinating shoreline habitats on January 22\, 2024 Indian Mound Park\, 210 Winson Ave.\, Englewood\, FL 34223. Tours will depart from the following sites at 9:30 a.m. and will be approximately 2 hours long. \nParticipation is limited to LBC members and their accompanying guests. Advance registration by no later than 4p.m. the day prior is required. Email Charlie Woodruff at cgw3@icloud.com \nAll tours will be subject to tide and weather conditions. Participants must have their own equipment: kayak or paddle board\, paddle(s)\, PFD\, water\, hat and sense of humor. Liability waivers are required for each tour. \n 
URL:https://lemonbayconservancy.org/event/lbc-members-eco-kayak-tour/
LOCATION:Indian Mound Park\, 210 Winson Ave\, Englewood\, FL\, 34223\, United States
CATEGORIES:General,LBC Member Event
ATTACH;FMTTYPE=image/jpeg:https://lemonbayconservancy.org/wp-content/uploads/2024/01/D219A8F3-6F3A-4D00-9CBE-3B31AFB61259.jpeg
GEO:26.9569438;-82.3627556
X-APPLE-STRUCTURED-LOCATION;VALUE=URI;X-ADDRESS=Indian Mound Park 210 Winson Ave Englewood FL 34223 United States;X-APPLE-RADIUS=500;X-TITLE=210 Winson Ave:geo:-82.3627556,26.9569438
END:VEVENT
BEGIN:VEVENT
DTSTART;TZID=America/New_York:20240125T170000
DTEND;TZID=America/New_York:20240125T193000
DTSTAMP:20260422T095541
CREATED:20231030T185544Z
LAST-MODIFIED:20240116T215931Z
UID:10000783-1706202000-1706211000@lemonbayconservancy.org
SUMMARY:Lemon Bay Conservancy Annual Meeting
DESCRIPTION:Please mark your calendars to join us on Thursday\, January 25th\, as we hold our Annual Meeting and kickoff the 2024 Lemon Bay Coastal Seminar Series with a presentation by  Tonya Wiley\,  from Havenworth Coastal Conservation\, on “The Endangered Sawfish of Florida: Past\, Present\, and Future”. \nThe evening will begin at 5:00 p.m. with refreshments and opportunities to talk with volunteers from LBC about Vertical Oyster Gardens and our many other environmental initiatives.  Students from the Lemon Bay High School marine science conservation club will also be on hand\, talking about their programs and scheduling sign-ups for special tour dates to visit the LBHS Marine Science Lab. \nThe business meeting will start at 5:30 p.m.\, to be followed by our guest speaker and by the auction of the LBC Traveling Heron!  (Please see the separate article later in this email with more details about how you can bid to “host the heron”\, even if you can’t make the meeting.) \nThe meeting will be held at the Cape Haze Community Center located at 180 Spyglass Alley\, Placida\, FL 33946\, at the intersection of Spyglass Alley and Spaniards Road.  Parking is available on both streets.  To reach the Community Center from Placida Road (Hwy. 775)\, turn west onto Cape Haze Drive.  At the traffic circle\, take the first right (heading north) onto Spaniards Rd.  The Community Center will be just ahead on your left. \nCoastal Seminar Series additional planning note:  LBC member Rob Robbins\, a marine biologist\, has scheduled three additional outstanding speakers on interesting and important topics related to our beautiful\, but fragile\, local ecosystems. Be sure to check our calendar for additional monthly sessions through April 2024.  To see the full schedule\, click on this link: Lemon Bay Coastal Lecture Series Schedule \n  \n 
URL:https://lemonbayconservancy.org/event/lemon-bay-conservancy-annual-meeting/
LOCATION:Cape Haze Community Center\, 180 Spyglass Aly\, Placida 33946\, 180 Spyglass Alley\, Placida\, FL\, 33946\, United States
CATEGORIES:Community Event,Educational,General,Help Nature,LBC Member Event
ATTACH;FMTTYPE=image/jpeg:https://lemonbayconservancy.org/wp-content/uploads/2020/01/Annual-Meeting-6.jpg
ORGANIZER;CN="Lemon Bay Conservancy":MAILTO:lbconservancy@comcast.net
GEO:26.852842;-82.2922033
X-APPLE-STRUCTURED-LOCATION;VALUE=URI;X-ADDRESS=Cape Haze Community Center 180 Spyglass Aly Placida 33946 180 Spyglass Alley Placida FL 33946 United States;X-APPLE-RADIUS=500;X-TITLE=180 Spyglass Alley:geo:-82.2922033,26.852842
END:VEVENT
BEGIN:VEVENT
DTSTART;TZID=America/New_York:20240129T093000
DTEND;TZID=America/New_York:20240129T113000
DTSTAMP:20260422T095541
CREATED:20240115T222757Z
LAST-MODIFIED:20240115T222757Z
UID:10001603-1706520600-1706527800@lemonbayconservancy.org
SUMMARY:LBC Members Eco Kayak Tour
DESCRIPTION:Join paddle team members Charlie Woodruff\, Jayne Dean and Beth McKinley as they explore the ecology of Lemon Bay and its fascinating shoreline habitats on January 29\, 2024 at Oyster Creek Boat Ramp\, Placida Rd.\, Englewood\, FL 34224.Tours will depart from the following sites at 9:30 a.m. and will be approximately 2 hours long. Oyster Creek Boat Ramp\, Placida Rd.\, Englewood\, FL 34224 \nParticipation is limited to LBC members and their accompanying guests. Advance registration by no later than 4p.m. the day prior is required. Email Charlie Woodruff at cgw3@icloud.com \nAll tours will be subject to tide and weather conditions. Participants must have their own equipment: kayak or paddle board\, paddle(s)\, PFD\, water\, hat and sense of humor. Liability waivers are required for each tour.
URL:https://lemonbayconservancy.org/event/lbc-members-eco-kayak-tour-2/
LOCATION:Oyster Creek Environmental Park – Kayak Ramp\, 2333 Placida Rd.\, 2333 Placida Rd.\, Englewood\, FL\, 34223\, United States
CATEGORIES:General,LBC Member Event
ATTACH;FMTTYPE=image/jpeg:https://lemonbayconservancy.org/wp-content/uploads/2024/01/D219A8F3-6F3A-4D00-9CBE-3B31AFB61259.jpeg
GEO:26.9569438;-82.3627556
X-APPLE-STRUCTURED-LOCATION;VALUE=URI;X-ADDRESS=Oyster Creek Environmental Park – Kayak Ramp 2333 Placida Rd. 2333 Placida Rd. Englewood FL 34223 United States;X-APPLE-RADIUS=500;X-TITLE=2333 Placida Rd.:geo:-82.3627556,26.9569438
END:VEVENT
BEGIN:VEVENT
DTSTART;TZID=America/New_York:20240131T160000
DTEND;TZID=America/New_York:20240131T170000
DTSTAMP:20260422T095541
CREATED:20231006T194216Z
LAST-MODIFIED:20240102T150542Z
UID:10000513-1706716800-1706720400@lemonbayconservancy.org
SUMMARY:Rock Painting Workshop
DESCRIPTION:You are invited to join us for a rock garden painting session on Wednesday\, January 31\, 2024 at 4:00 pm at the outdoor classroom area in the meadow at Lemon Creek Wildflower Preserve located at 3120 Gasparilla Pines Boulevard\, Englewood\, FL 34224. We will provide paint\, brushes\, some cocktail napkins\, mod podge for decoupage\, and several different types of acrylic pens for group use. New techniques working with colored glue\, using cake decorating tips\, and metal paint will also be explored. Instructor Bonnie Stuhlmiller is always happy to assist in picking out rocks with natural character. Everyone is welcome to participate and join us for a monthly guided labyrinth walk following the session.
URL:https://lemonbayconservancy.org/event/rock-painting-workshop/
LOCATION:Lemon Creek Wildflower Preserve\, 3120 Gasparilla Pines Blvd\, Englewood\, FL 34224\, 3120 Gasparilla Pines Blvd.\, Englewood\, FL\, 34224\, United States
CATEGORIES:Community Event,General,LBC Member Event
ATTACH;FMTTYPE=image/jpeg:https://lemonbayconservancy.org/wp-content/uploads/2023/09/956CC146-EA4E-4CF7-A395-D12705E4DA75-scaled.jpeg
GEO:26.8816513;-82.3049401
X-APPLE-STRUCTURED-LOCATION;VALUE=URI;X-ADDRESS=Lemon Creek Wildflower Preserve 3120 Gasparilla Pines Blvd Englewood FL 34224 3120 Gasparilla Pines Blvd. Englewood FL 34224 United States;X-APPLE-RADIUS=500;X-TITLE=3120 Gasparilla Pines Blvd.:geo:-82.3049401,26.8816513
END:VEVENT
END:VCALENDAR