BEGIN:VCALENDAR
VERSION:2.0
PRODID:-//Lemon Bay Conservancy - ECPv6.15.18//NONSGML v1.0//EN
CALSCALE:GREGORIAN
METHOD:PUBLISH
X-ORIGINAL-URL:https://lemonbayconservancy.org
X-WR-CALDESC:Events for Lemon Bay Conservancy
REFRESH-INTERVAL;VALUE=DURATION:PT1H
X-Robots-Tag:noindex
X-PUBLISHED-TTL:PT1H
BEGIN:VTIMEZONE
TZID:America/New_York
BEGIN:DAYLIGHT
TZOFFSETFROM:-0500
TZOFFSETTO:-0400
TZNAME:EDT
DTSTART:20230312T070000
END:DAYLIGHT
BEGIN:STANDARD
TZOFFSETFROM:-0400
TZOFFSETTO:-0500
TZNAME:EST
DTSTART:20231105T060000
END:STANDARD
BEGIN:DAYLIGHT
TZOFFSETFROM:-0500
TZOFFSETTO:-0400
TZNAME:EDT
DTSTART:20240310T070000
END:DAYLIGHT
BEGIN:STANDARD
TZOFFSETFROM:-0400
TZOFFSETTO:-0500
TZNAME:EST
DTSTART:20241103T060000
END:STANDARD
BEGIN:DAYLIGHT
TZOFFSETFROM:-0500
TZOFFSETTO:-0400
TZNAME:EDT
DTSTART:20250309T070000
END:DAYLIGHT
BEGIN:STANDARD
TZOFFSETFROM:-0400
TZOFFSETTO:-0500
TZNAME:EST
DTSTART:20251102T060000
END:STANDARD
END:VTIMEZONE
BEGIN:VEVENT
DTSTART;TZID=America/New_York:20240304T093000
DTEND;TZID=America/New_York:20240304T113000
DTSTAMP:20260422T063403
CREATED:20240229T202712Z
LAST-MODIFIED:20240229T202712Z
UID:10001792-1709544600-1709551800@lemonbayconservancy.org
SUMMARY:Eco Paddle Tour
DESCRIPTION:LBC members and their guests are invited to paddle with us on Monday\, March 4\, 2024 9:30 am.We will launch from Don Pedro State Park\, 8450 Placida Road\, Placida\, FL 33946.This paddle will explore the mangrove-lined bayside of the island. All participants must provide their own equipment: kayak or paddle board\, paddles\, pfd\, hat\, whistle\, water bottle\, sunscreen\, bug spray and sense of humor. \nLemon BayWatch kayak tours are limited to LBC members and their accompanying guests. Liability waiver forms are required for each tour and will be available at the launch site. Advanced reservations are required by 4:00 pm the day before each tour. Email Charlie Woodruff at cgw3@icloud.com .
URL:https://lemonbayconservancy.org/event/eco-paddle-tour-2/
LOCATION:Don Pedro Island State Park\, 8450 Placida Rd\, Cape Haze\, FL\, 33946
CATEGORIES:General,LBC Member Event
ATTACH;FMTTYPE=image/jpeg:https://lemonbayconservancy.org/wp-content/uploads/2017/03/Myakka-R-paddle-starting-from-quarry-Jayne-in-kayak-3.19.17-Bill-Dunson-IMG_9024-aa.jpg
GEO:26.8574125;-82.3004792
X-APPLE-STRUCTURED-LOCATION;VALUE=URI;X-ADDRESS=Don Pedro Island State Park 8450 Placida Rd Cape Haze FL 33946;X-APPLE-RADIUS=500;X-TITLE=8450 Placida Rd:geo:-82.3004792,26.8574125
END:VEVENT
BEGIN:VEVENT
DTSTART;TZID=America/New_York:20240316T080000
DTEND;TZID=America/New_York:20240316T103000
DTSTAMP:20260422T063403
CREATED:20240129T161957Z
LAST-MODIFIED:20240129T161957Z
UID:10001712-1710576000-1710585000@lemonbayconservancy.org
SUMMARY:Tarpon Net Pull
DESCRIPTION:Attention all new and returning Tarpon net pull volunteers\, we will conduct our next Tarpon pull event on Saturday\, March 16\, 2024 at 8:00 am. We will first need to load the seine net and other equipment in the Jon boat before using our UTV to tow the boat over to the ponds located by Fiddlers Green. Please use the Lemon Creek Wildflower Preserve parking lot and plan to meet at the equipment shed at 7:45 am. After we have finished loading up\, you can then drive your vehicle over to Fiddlers Green and use the carpark there for your convenience. The actual net pull will get underway around 8:30 am starting with the smaller of the two ponds. If you have waders please bring them along with gloves\, a hat\, water and mosquito repellant. Please contact Malcolm Collingwood at 917-915-1076 or malcolmcollingwood@gmail.com to RSVP for the event. This event is open to everyone in the local community that is interested in participating.
URL:https://lemonbayconservancy.org/event/tarpon-net-pull-3/
LOCATION:Lemon Creek Wildflower Preserve\, 3120 Gasparilla Pines Blvd\, Englewood\, FL 34224\, 3120 Gasparilla Pines Blvd.\, Englewood\, FL\, 34224\, United States
CATEGORIES:Community Event,Educational,General,LBC Member Event
ATTACH;FMTTYPE=image/jpeg:https://lemonbayconservancy.org/wp-content/uploads/2013/11/Furner_Jan2012_1126.jpg
GEO:26.8816513;-82.3049401
X-APPLE-STRUCTURED-LOCATION;VALUE=URI;X-ADDRESS=Lemon Creek Wildflower Preserve 3120 Gasparilla Pines Blvd Englewood FL 34224 3120 Gasparilla Pines Blvd. Englewood FL 34224 United States;X-APPLE-RADIUS=500;X-TITLE=3120 Gasparilla Pines Blvd.:geo:-82.3049401,26.8816513
END:VEVENT
BEGIN:VEVENT
DTSTART;TZID=America/New_York:20240318T093000
DTEND;TZID=America/New_York:20240318T113000
DTSTAMP:20260422T063403
CREATED:20240229T203048Z
LAST-MODIFIED:20240229T203048Z
UID:10001793-1710754200-1710761400@lemonbayconservancy.org
SUMMARY:Eco Paddle Tour
DESCRIPTION:LBC members and their guests are invited to paddle with us on Monday\, March 18\, 2024 9:30 am.We will launch from Oyster Creek Kayak Launch\, south of Lemon Bay High School on Placida Road\, Englewood\, FL 34224. We will explore Cedar Point and Rock Creek. All participants must provide their own equipment: kayak or paddle board\, paddles\, pfd\, hat\, whistle\, water bottle\, sunscreen\, bug spray and sense of humor. \nLemon BayWatch kayak tours are limited to LBC members and their accompanying guests. Liability waiver forms are required for each tour and will be available at the launch site. Advanced reservations are required by 4:00 pm the day before each tour. Email Charlie Woodruff at cgw3@icloud.com .
URL:https://lemonbayconservancy.org/event/eco-paddle-tour-3/
LOCATION:Oyster Creek Environmental Park – Kayak Ramp\, 2333 Placida Rd.\, 2333 Placida Rd.\, Englewood\, FL\, 34223\, United States
CATEGORIES:General,LBC Member Event
ATTACH;FMTTYPE=image/jpeg:https://lemonbayconservancy.org/wp-content/uploads/2017/03/Myakka-R-paddle-starting-from-quarry-Jayne-in-kayak-3.19.17-Bill-Dunson-IMG_9024-aa.jpg
GEO:26.9569438;-82.3627556
X-APPLE-STRUCTURED-LOCATION;VALUE=URI;X-ADDRESS=Oyster Creek Environmental Park – Kayak Ramp 2333 Placida Rd. 2333 Placida Rd. Englewood FL 34223 United States;X-APPLE-RADIUS=500;X-TITLE=2333 Placida Rd.:geo:-82.3627556,26.9569438
END:VEVENT
BEGIN:VEVENT
DTSTART;TZID=America/New_York:20240325T093000
DTEND;TZID=America/New_York:20240325T113000
DTSTAMP:20260422T063403
CREATED:20240229T215152Z
LAST-MODIFIED:20240229T215152Z
UID:10001794-1711359000-1711366200@lemonbayconservancy.org
SUMMARY:Eco Paddle Tour
DESCRIPTION:LBC members and their guests are invited to paddle with us on Monday\, March 25\, 2024 9:30 am. Paddlers will explore the mangroves and seagrass areas to the south and west of the launch site at Indian Mound Park\, 210 Winson Ave.\, Englewood\, FL 34223. All participants must provide their own equipment: kayak or paddle board\, paddles\, pfd\, hat\, whistle\, water bottle\, sunscreen\, bug spray and sense of humor. \nLemon BayWatch kayak tours are limited to LBC members and their accompanying guests. Liability waiver forms are required for each tour and will be available at the launch site. Advanced reservations are required by 4:00 pm the day before each tour. Email Charlie Woodruff at cgw3@icloud.com .
URL:https://lemonbayconservancy.org/event/eco-paddle-tour-4/
LOCATION:Indian Mound Park\, 210 Winson Ave\, Englewood\, FL\, 34223\, United States
CATEGORIES:General,LBC Member Event
ATTACH;FMTTYPE=image/jpeg:https://lemonbayconservancy.org/wp-content/uploads/2017/03/Myakka-R-paddle-starting-from-quarry-Jayne-in-kayak-3.19.17-Bill-Dunson-IMG_9024-aa.jpg
GEO:26.9569438;-82.3627556
X-APPLE-STRUCTURED-LOCATION;VALUE=URI;X-ADDRESS=Indian Mound Park 210 Winson Ave Englewood FL 34223 United States;X-APPLE-RADIUS=500;X-TITLE=210 Winson Ave:geo:-82.3627556,26.9569438
END:VEVENT
BEGIN:VEVENT
DTSTART;TZID=America/New_York:20240327T160000
DTEND;TZID=America/New_York:20240327T170000
DTSTAMP:20260422T063403
CREATED:20240216T205433Z
LAST-MODIFIED:20240216T205433Z
UID:10001790-1711555200-1711558800@lemonbayconservancy.org
SUMMARY:Rock Painting Workshop
DESCRIPTION:You are invited to join us for a rock garden painting session on Wednesday\, March 27\, 2024 at 4:00 pm at the outdoor classroom area in the meadow at Lemon Creek Wildflower Preserve located at 3120 Gasparilla Pines Boulevard\, Englewood\, FL 34224. We will provide paint\, brushes\, some cocktail napkins\, mod podge for decoupage\, and several different types of acrylic pens for group use. New techniques working with colored glue\, using cake decorating tips\, and metal paint will also be explored. Instructor Bonnie Stuhlmiller is always happy to assist in picking out rocks with natural character. Everyone is welcome to participate and join us for a monthly guided labyrinth walk following the session.
URL:https://lemonbayconservancy.org/event/rock-painting-workshop-3/
LOCATION:Lemon Creek Wildflower Preserve\, 3120 Gasparilla Pines Blvd\, Englewood\, FL 34224\, 3120 Gasparilla Pines Blvd.\, Englewood\, FL\, 34224\, United States
CATEGORIES:Community Event,General,LBC Member Event
ATTACH;FMTTYPE=image/jpeg:https://lemonbayconservancy.org/wp-content/uploads/2023/09/956CC146-EA4E-4CF7-A395-D12705E4DA75-scaled.jpeg
GEO:26.8816513;-82.3049401
X-APPLE-STRUCTURED-LOCATION;VALUE=URI;X-ADDRESS=Lemon Creek Wildflower Preserve 3120 Gasparilla Pines Blvd Englewood FL 34224 3120 Gasparilla Pines Blvd. Englewood FL 34224 United States;X-APPLE-RADIUS=500;X-TITLE=3120 Gasparilla Pines Blvd.:geo:-82.3049401,26.8816513
END:VEVENT
END:VCALENDAR