BEGIN:VCALENDAR
VERSION:2.0
PRODID:-//Lemon Bay Conservancy - ECPv6.15.18//NONSGML v1.0//EN
CALSCALE:GREGORIAN
METHOD:PUBLISH
X-WR-CALNAME:Lemon Bay Conservancy
X-ORIGINAL-URL:https://lemonbayconservancy.org
X-WR-CALDESC:Events for Lemon Bay Conservancy
REFRESH-INTERVAL;VALUE=DURATION:PT1H
X-Robots-Tag:noindex
X-PUBLISHED-TTL:PT1H
BEGIN:VTIMEZONE
TZID:America/New_York
BEGIN:DAYLIGHT
TZOFFSETFROM:-0500
TZOFFSETTO:-0400
TZNAME:EDT
DTSTART:20250309T070000
END:DAYLIGHT
BEGIN:STANDARD
TZOFFSETFROM:-0400
TZOFFSETTO:-0500
TZNAME:EST
DTSTART:20251102T060000
END:STANDARD
BEGIN:DAYLIGHT
TZOFFSETFROM:-0500
TZOFFSETTO:-0400
TZNAME:EDT
DTSTART:20260308T070000
END:DAYLIGHT
BEGIN:STANDARD
TZOFFSETFROM:-0400
TZOFFSETTO:-0500
TZNAME:EST
DTSTART:20261101T060000
END:STANDARD
BEGIN:DAYLIGHT
TZOFFSETFROM:-0500
TZOFFSETTO:-0400
TZNAME:EDT
DTSTART:20270314T070000
END:DAYLIGHT
BEGIN:STANDARD
TZOFFSETFROM:-0400
TZOFFSETTO:-0500
TZNAME:EST
DTSTART:20271107T060000
END:STANDARD
END:VTIMEZONE
BEGIN:VEVENT
DTSTART;TZID=America/New_York:20260122T170000
DTEND;TZID=America/New_York:20260122T200000
DTSTAMP:20260422T124357
CREATED:20251008T181143Z
LAST-MODIFIED:20251221T203730Z
UID:10046324-1769101200-1769112000@lemonbayconservancy.org
SUMMARY:Annual Meeting & Special Presentation: Helping Our Threatened Burrowing Owls
DESCRIPTION:Following our short business meeting and election of officers\, we will have a special presentation on LBC’s initiative to help the small\, threatened Burrowing Owl colony on the Cape Haze peninsula. \nRefreshments at 5:00.  Business meeting begins at 5:30\, with presentation immediately following.
URL:https://lemonbayconservancy.org/event/annual-meeting-special-presentation-helping-our-threatened-burrowing-owls/
LOCATION:Cape Haze Community Center\, 180 Spyglass Aly\, Placida 33946\, 180 Spyglass Alley\, Placida\, FL\, 33946\, United States
CATEGORIES:Community Event,LBC Member Event,Meeting
ATTACH;FMTTYPE=image/jpeg:https://lemonbayconservancy.org/wp-content/uploads/2025/11/20250517_2553-nest-8-owlet-on-perch-scaled.jpg
ORGANIZER;CN="Lemon Bay Conservancy":MAILTO:lbconservancy@comcast.net
GEO:26.852842;-82.2922033
X-APPLE-STRUCTURED-LOCATION;VALUE=URI;X-ADDRESS=Cape Haze Community Center 180 Spyglass Aly Placida 33946 180 Spyglass Alley Placida FL 33946 United States;X-APPLE-RADIUS=500;X-TITLE=180 Spyglass Alley:geo:-82.2922033,26.852842
END:VEVENT
END:VCALENDAR