BEGIN:VCALENDAR
VERSION:2.0
PRODID:-//Lemon Bay Conservancy - ECPv6.15.18//NONSGML v1.0//EN
CALSCALE:GREGORIAN
METHOD:PUBLISH
X-ORIGINAL-URL:https://lemonbayconservancy.org
X-WR-CALDESC:Events for Lemon Bay Conservancy
REFRESH-INTERVAL;VALUE=DURATION:PT1H
X-Robots-Tag:noindex
X-PUBLISHED-TTL:PT1H
BEGIN:VTIMEZONE
TZID:America/New_York
BEGIN:DAYLIGHT
TZOFFSETFROM:-0500
TZOFFSETTO:-0400
TZNAME:EDT
DTSTART:20240310T070000
END:DAYLIGHT
BEGIN:STANDARD
TZOFFSETFROM:-0400
TZOFFSETTO:-0500
TZNAME:EST
DTSTART:20241103T060000
END:STANDARD
BEGIN:DAYLIGHT
TZOFFSETFROM:-0500
TZOFFSETTO:-0400
TZNAME:EDT
DTSTART:20250309T070000
END:DAYLIGHT
BEGIN:STANDARD
TZOFFSETFROM:-0400
TZOFFSETTO:-0500
TZNAME:EST
DTSTART:20251102T060000
END:STANDARD
BEGIN:DAYLIGHT
TZOFFSETFROM:-0500
TZOFFSETTO:-0400
TZNAME:EDT
DTSTART:20260308T070000
END:DAYLIGHT
BEGIN:STANDARD
TZOFFSETFROM:-0400
TZOFFSETTO:-0500
TZNAME:EST
DTSTART:20261101T060000
END:STANDARD
END:VTIMEZONE
BEGIN:VEVENT
DTSTART;TZID=America/New_York:20250208T083000
DTEND;TZID=America/New_York:20250208T123000
DTSTAMP:20260422T081301
CREATED:20240906T200233Z
LAST-MODIFIED:20250131T183056Z
UID:10001916-1739003400-1739017800@lemonbayconservancy.org
SUMMARY:Exploration Day - Lemon Creek Wildflower Preserve
DESCRIPTION:Volunteer Guide Bob Cooper (right) with a tour group \n\nOn Saturday\, February 8\, 2025\, Lemon Bay Conservancy will host its annual “Exporation Day” Nature Festival at Lemon Creek Wildflower Preserve\, renamed this year  from “Open House” to “Exploration Day – Lemon Creek Wildflower Preserve”. The free event runs from 8:00 am to 12:30 pm.  An “Early Bird” guided bird walk begins at 8:00 am\, with information booths and other activities beginning at 8:30. Guided nature walks on various topics will continue throughout the morning.   Local environmental groups will provide information exhibits and offer demonstrations of nature projects such as vertical oyster gardening during the event. Everyone is invited to attend this free\, community-wide event. \nLemon Creek Wildflower Preserve is an 80-acre former golf course with numerous freshwater ponds and the Lemon Creek estuary.  It was purchased by Lemon Bay Conservancy in 2010 with the goal of providing a refuge for wildlife and opportunities for environmental education and scientific research.  The preserve has been restored to native habitats in partnership with the Southwest Water Management District and NOAA. \nLemon Bay Conservancy is a non-profit organization managed by volunteers and funded by donations\, memberships and grants. \n\nDetails on the Exploration Day event schedule and participating organizations are available by clicking on this link:  2025 Exploration Day Information \nThe Preserve is located at 3120 Gasparilla Pines Boulevard\, Englewood\, FL 34224.
URL:https://lemonbayconservancy.org/event/exploration-day-2025/
LOCATION:Lemon Creek Wildflower Preserve\, 3120 Gasparilla Pines Blvd\, Englewood\, FL 34224\, 3120 Gasparilla Pines Blvd.\, Englewood\, FL\, 34224\, United States
CATEGORIES:Community Event,Educational,General,Nature Walk,Open House
ATTACH;FMTTYPE=image/jpeg:https://lemonbayconservancy.org/wp-content/uploads/2015/01/2015_WF_Open_House_Mote_5-e1422301250280.jpg
ORGANIZER;CN="Lemon Bay Conservancy":MAILTO:lbconservancy@comcast.net
GEO:26.8816513;-82.3049401
X-APPLE-STRUCTURED-LOCATION;VALUE=URI;X-ADDRESS=Lemon Creek Wildflower Preserve 3120 Gasparilla Pines Blvd Englewood FL 34224 3120 Gasparilla Pines Blvd. Englewood FL 34224 United States;X-APPLE-RADIUS=500;X-TITLE=3120 Gasparilla Pines Blvd.:geo:-82.3049401,26.8816513
END:VEVENT
END:VCALENDAR