BEGIN:VCALENDAR
VERSION:2.0
PRODID:-//Lemon Bay Conservancy - ECPv6.15.18//NONSGML v1.0//EN
CALSCALE:GREGORIAN
METHOD:PUBLISH
X-ORIGINAL-URL:https://lemonbayconservancy.org
X-WR-CALDESC:Events for Lemon Bay Conservancy
REFRESH-INTERVAL;VALUE=DURATION:PT1H
X-Robots-Tag:noindex
X-PUBLISHED-TTL:PT1H
BEGIN:VTIMEZONE
TZID:America/New_York
BEGIN:DAYLIGHT
TZOFFSETFROM:-0500
TZOFFSETTO:-0400
TZNAME:EDT
DTSTART:20250309T070000
END:DAYLIGHT
BEGIN:STANDARD
TZOFFSETFROM:-0400
TZOFFSETTO:-0500
TZNAME:EST
DTSTART:20251102T060000
END:STANDARD
BEGIN:DAYLIGHT
TZOFFSETFROM:-0500
TZOFFSETTO:-0400
TZNAME:EDT
DTSTART:20260308T070000
END:DAYLIGHT
BEGIN:STANDARD
TZOFFSETFROM:-0400
TZOFFSETTO:-0500
TZNAME:EST
DTSTART:20261101T060000
END:STANDARD
BEGIN:DAYLIGHT
TZOFFSETFROM:-0500
TZOFFSETTO:-0400
TZNAME:EDT
DTSTART:20270314T070000
END:DAYLIGHT
BEGIN:STANDARD
TZOFFSETFROM:-0400
TZOFFSETTO:-0500
TZNAME:EST
DTSTART:20271107T060000
END:STANDARD
END:VTIMEZONE
BEGIN:VEVENT
DTSTART;TZID=America/New_York:20260214T080000
DTEND;TZID=America/New_York:20260214T130000
DTSTAMP:20260421T124647
CREATED:20251008T183015Z
LAST-MODIFIED:20260204T214413Z
UID:10046325-1771056000-1771074000@lemonbayconservancy.org
SUMMARY:Exploration Day - Lemon Creek Wildflower Preserve
DESCRIPTION:On Saturday\, February 14\, 2026\, Lemon Bay Conservancy will host its annual “Exploration Day” Nature Festival at Lemon Creek Wildflower Preserve.  This year\, we’ll be celebrating Valentine’s Day and the 5th anniversary of our reopening of the restored preserve.  The free event begins with an “Early Bird” guided bird at 8:00 am.  Guided nature walks on various topics will continue throughout the morning.   Local environmental groups will provide information exhibits and offer hands-on exhibits.  Everyone is invited to attend this free\, community-wide event. \nLemon Creek Wildflower Preserve is an 80-acre former golf course with numerous freshwater ponds and the Lemon Creek estuary.  It was purchased by Lemon Bay Conservancy in 2010 with the goal of providing a refuge for wildlife and opportunities for environmental education and scientific research.  The preserve has been restored to native habitats in partnership with the Southwest Water Management District and NOAA. \nLemon Bay Conservancy is a non-profit organization managed by volunteers and funded by donations\, memberships and grants. \n\nThe Preserve is located at 3120 Gasparilla Pines Boulevard\, Englewood\, FL 34224. \nClick here to see a post with additional event details: Exploration Day 2026
URL:https://lemonbayconservancy.org/event/exploration-day-lemon-creek-wildflower-preserve/
LOCATION:Lemon Creek Wildflower Preserve\, 3120 Gasparilla Pines Blvd\, Englewood\, FL 34224\, 3120 Gasparilla Pines Blvd.\, Englewood\, FL\, 34224\, United States
CATEGORIES:Community Event,Educational,LBC Member Event,Nature Walk,Open House
ATTACH;FMTTYPE=image/jpeg:https://lemonbayconservancy.org/wp-content/uploads/2025/02/20250208_0990-scaled.jpg
ORGANIZER;CN="Lemon Bay Conservancy":MAILTO:lbconservancy@comcast.net
GEO:26.8816513;-82.3049401
X-APPLE-STRUCTURED-LOCATION;VALUE=URI;X-ADDRESS=Lemon Creek Wildflower Preserve 3120 Gasparilla Pines Blvd Englewood FL 34224 3120 Gasparilla Pines Blvd. Englewood FL 34224 United States;X-APPLE-RADIUS=500;X-TITLE=3120 Gasparilla Pines Blvd.:geo:-82.3049401,26.8816513
END:VEVENT
END:VCALENDAR