BEGIN:VCALENDAR
VERSION:2.0
PRODID:-//Lemon Bay Conservancy - ECPv6.15.18//NONSGML v1.0//EN
CALSCALE:GREGORIAN
METHOD:PUBLISH
X-ORIGINAL-URL:https://lemonbayconservancy.org
X-WR-CALDESC:Events for Lemon Bay Conservancy
REFRESH-INTERVAL;VALUE=DURATION:PT1H
X-Robots-Tag:noindex
X-PUBLISHED-TTL:PT1H
BEGIN:VTIMEZONE
TZID:America/New_York
BEGIN:DAYLIGHT
TZOFFSETFROM:-0500
TZOFFSETTO:-0400
TZNAME:EDT
DTSTART:20230312T070000
END:DAYLIGHT
BEGIN:STANDARD
TZOFFSETFROM:-0400
TZOFFSETTO:-0500
TZNAME:EST
DTSTART:20231105T060000
END:STANDARD
BEGIN:DAYLIGHT
TZOFFSETFROM:-0500
TZOFFSETTO:-0400
TZNAME:EDT
DTSTART:20240310T070000
END:DAYLIGHT
BEGIN:STANDARD
TZOFFSETFROM:-0400
TZOFFSETTO:-0500
TZNAME:EST
DTSTART:20241103T060000
END:STANDARD
BEGIN:DAYLIGHT
TZOFFSETFROM:-0500
TZOFFSETTO:-0400
TZNAME:EDT
DTSTART:20250309T070000
END:DAYLIGHT
BEGIN:STANDARD
TZOFFSETFROM:-0400
TZOFFSETTO:-0500
TZNAME:EST
DTSTART:20251102T060000
END:STANDARD
END:VTIMEZONE
BEGIN:VEVENT
DTSTART;TZID=America/New_York:20240413T090000
DTEND;TZID=America/New_York:20240413T110000
DTSTAMP:20260424T002359
CREATED:20240312T170837Z
LAST-MODIFIED:20240328T210142Z
UID:10001798-1712998800-1713006000@lemonbayconservancy.org
SUMMARY:Eyes on Seagrass
DESCRIPTION:LEMON BAYWATCH\nUF/IFAS Extension SEA GRANT Program Eyes On Seagrass \nInvites You To\nBecome a citizen Scientist for a Day! \n9:00 – 11:00 a.m.\nSaturday\, April 13\, 2024\nCedar Point Environmental Center\n2300 Placida Rd.\, Englewood\, FL 34224 \n  \nSea grass is essential for a healthy marine environment.  It is the food source and habitat for many species of fish\, shellfish and marine animals; it enhances water clarity\, stabilizes shorelines and helps to sequester carbon and nitrogen. \nIn recent years\, there has been a significant die-off of seagrass in Charlotte Harbor and certain areas of Lemon Bay. This is primarily due to rapid algae growth that robs seagrass of adequate sunlight necessary for healthy growth. The health and habitat of hundreds of species has suffered as a result. \nEyes on Seagrass is a citizen science program developed by UF/IF Sea Grant that trains volunteers to monitor seagrass using carefully developed scientific protocols. Citizen scientists collect data on seagrass health\, sediment\, algae presence\, and water quality at numerous sites in Lemon Bay and Charlotte Harbor.  The data collected by citizen volunteers provides important information for scientists to better manage water resources and guide conservation management policy. \nThe Lemon BayWatch team invites you to a live demonstration of seagrass monitoring on  Saturday\, April 13th at Cedar Point Environmental Center.  Come see what citizen scientists can do to make an important difference in our environment! \nJOIN US!  Advance registration is required.  Register by clicking on this link:https://ufl.qualtrics.com/jfe/form/SV_0uLUpAoLPbH0h26 \nTo learn more about the Eyes on Sea Grass program\, including upcoming sampling dates\, follow-on this link: \nhttps://sfyl.ifas.ufl.edu/charlotte/sea-grant/eyes-on-seagrass/
URL:https://lemonbayconservancy.org/event/eyes-on-seagrass/
LOCATION:Cedar Point Environmental Park\, 2300 Placida Road\, Englewood\, 34224
CATEGORIES:Community Event,Educational,Help Nature,Volunteer Opportunities
ATTACH;FMTTYPE=image/jpeg:https://lemonbayconservancy.org/wp-content/uploads/2023/04/Lemon-BayWatch-Seagrass-Monitoring-Apr2023-scaled.jpg
GEO:26.925216;-82.337968
X-APPLE-STRUCTURED-LOCATION;VALUE=URI;X-ADDRESS=Cedar Point Environmental Park 2300 Placida Road Englewood 34224;X-APPLE-RADIUS=500;X-TITLE=2300 Placida Road:geo:-82.337968,26.925216
END:VEVENT
BEGIN:VEVENT
DTSTART;TZID=America/New_York:20240420T080000
DTEND;TZID=America/New_York:20240420T103000
DTSTAMP:20260424T002359
CREATED:20240324T170015Z
LAST-MODIFIED:20240324T170015Z
UID:10001806-1713600000-1713609000@lemonbayconservancy.org
SUMMARY:Juvenile Tarpon Research Net Pull
DESCRIPTION:Attention all new and returning Tarpon net pull volunteers\, we will conduct our next Tarpon pull event on Saturday\, April20 \, 2024 at 8:00 am. We will first need to load the seine net and other equipment in the Jon boat before using our UTV to tow the boat over to the ponds located by Fiddlers Green. Please use the Lemon Creek Wildflower Preserve parking lot and plan to meet at the equipment shed at 7:45 am. After we have finished loading up\, you can then drive your vehicle over to Fiddlers Green and use the carpark there for your convenience. The actual net pull will get underway around 8:30 am starting with the smaller of the two ponds. If you have waders please bring them along with gloves\, a hat\, water and mosquito repellant. Please contact Malcolm Collingwood at 917-915-1076 or malcolmcollingwood@gmail.com to RSVP for the event. This event is open to everyone in the local community that is interested in participating.
URL:https://lemonbayconservancy.org/event/juvenile-tarpon-research-net-pull/
LOCATION:Lemon Creek Wildflower Preserve\, 3120 Gasparilla Pines Blvd\, Englewood\, FL 34224\, 3120 Gasparilla Pines Blvd.\, Englewood\, FL\, 34224\, United States
CATEGORIES:Community Event,Educational,General,LBC Member Event,Tarpon Tagging,Volunteer Opportunities
ATTACH;FMTTYPE=image/jpeg:https://lemonbayconservancy.org/wp-content/uploads/2013/11/Furner_Jan2012_1126.jpg
GEO:26.8816513;-82.3049401
X-APPLE-STRUCTURED-LOCATION;VALUE=URI;X-ADDRESS=Lemon Creek Wildflower Preserve 3120 Gasparilla Pines Blvd Englewood FL 34224 3120 Gasparilla Pines Blvd. Englewood FL 34224 United States;X-APPLE-RADIUS=500;X-TITLE=3120 Gasparilla Pines Blvd.:geo:-82.3049401,26.8816513
END:VEVENT
END:VCALENDAR