BEGIN:VCALENDAR
VERSION:2.0
PRODID:-//Lemon Bay Conservancy - ECPv6.15.18//NONSGML v1.0//EN
CALSCALE:GREGORIAN
METHOD:PUBLISH
X-ORIGINAL-URL:https://lemonbayconservancy.org
X-WR-CALDESC:Events for Lemon Bay Conservancy
REFRESH-INTERVAL;VALUE=DURATION:PT1H
X-Robots-Tag:noindex
X-PUBLISHED-TTL:PT1H
BEGIN:VTIMEZONE
TZID:America/New_York
BEGIN:DAYLIGHT
TZOFFSETFROM:-0500
TZOFFSETTO:-0400
TZNAME:EDT
DTSTART:20240310T070000
END:DAYLIGHT
BEGIN:STANDARD
TZOFFSETFROM:-0400
TZOFFSETTO:-0500
TZNAME:EST
DTSTART:20241103T060000
END:STANDARD
BEGIN:DAYLIGHT
TZOFFSETFROM:-0500
TZOFFSETTO:-0400
TZNAME:EDT
DTSTART:20250309T070000
END:DAYLIGHT
BEGIN:STANDARD
TZOFFSETFROM:-0400
TZOFFSETTO:-0500
TZNAME:EST
DTSTART:20251102T060000
END:STANDARD
BEGIN:DAYLIGHT
TZOFFSETFROM:-0500
TZOFFSETTO:-0400
TZNAME:EDT
DTSTART:20260308T070000
END:DAYLIGHT
BEGIN:STANDARD
TZOFFSETFROM:-0400
TZOFFSETTO:-0500
TZNAME:EST
DTSTART:20261101T060000
END:STANDARD
END:VTIMEZONE
BEGIN:VEVENT
DTSTART;TZID=America/New_York:20250311T080000
DTEND;TZID=America/New_York:20250311T100000
DTSTAMP:20260423T070205
CREATED:20250308T232701Z
LAST-MODIFIED:20250308T232907Z
UID:10044650-1741680000-1741687200@lemonbayconservancy.org
SUMMARY:Volunteer Work Crew
DESCRIPTION:Volunteers meet at the Preserve on Tuesday and Thursday mornings to do maintenance and enhancement projects.  Come out and join us!  Activities include planting new native plants\, maintaining and enhancing the butterfly habitat\, mowing preserve trails\, clearing vines from recent plantings\, water quality monitoring\, and many other projects.  Some volunteers start at 7 am  while others choose to begin at 8 am.  Most people work two hours\, but your schedule is up to you.  If you’d like more information\, call the office at 941-830-8922 and we’ll put you in touch with our volunteer coordinators.
URL:https://lemonbayconservancy.org/event/volunteer-work-crew/2025-03-11/
LOCATION:Lemon Creek Wildflower Preserve\, 3120 Gasparilla Pines Blvd\, Englewood\, FL 34224\, 3120 Gasparilla Pines Blvd.\, Englewood\, FL\, 34224\, United States
CATEGORIES:Community Event,Exercise,Help Nature,Volunteer Opportunities
ATTACH;FMTTYPE=image/jpeg:https://lemonbayconservancy.org/wp-content/uploads/2024/01/volunteers-at-lbc.jpeg
ORGANIZER;CN="Lemon Bay Conservancy":MAILTO:lbconservancy@comcast.net
GEO:26.8816513;-82.3049401
X-APPLE-STRUCTURED-LOCATION;VALUE=URI;X-ADDRESS=Lemon Creek Wildflower Preserve 3120 Gasparilla Pines Blvd Englewood FL 34224 3120 Gasparilla Pines Blvd. Englewood FL 34224 United States;X-APPLE-RADIUS=500;X-TITLE=3120 Gasparilla Pines Blvd.:geo:-82.3049401,26.8816513
END:VEVENT
BEGIN:VEVENT
DTSTART;TZID=America/New_York:20250313T080000
DTEND;TZID=America/New_York:20250313T100000
DTSTAMP:20260423T070205
CREATED:20250308T232701Z
LAST-MODIFIED:20250308T232907Z
UID:10044651-1741852800-1741860000@lemonbayconservancy.org
SUMMARY:Volunteer Work Crew
DESCRIPTION:Volunteers meet at the Preserve on Tuesday and Thursday mornings to do maintenance and enhancement projects.  Come out and join us!  Activities include planting new native plants\, maintaining and enhancing the butterfly habitat\, mowing preserve trails\, clearing vines from recent plantings\, water quality monitoring\, and many other projects.  Some volunteers start at 7 am  while others choose to begin at 8 am.  Most people work two hours\, but your schedule is up to you.  If you’d like more information\, call the office at 941-830-8922 and we’ll put you in touch with our volunteer coordinators.
URL:https://lemonbayconservancy.org/event/volunteer-work-crew/2025-03-13/
LOCATION:Lemon Creek Wildflower Preserve\, 3120 Gasparilla Pines Blvd\, Englewood\, FL 34224\, 3120 Gasparilla Pines Blvd.\, Englewood\, FL\, 34224\, United States
CATEGORIES:Community Event,Exercise,Help Nature,Volunteer Opportunities
ATTACH;FMTTYPE=image/jpeg:https://lemonbayconservancy.org/wp-content/uploads/2024/01/volunteers-at-lbc.jpeg
ORGANIZER;CN="Lemon Bay Conservancy":MAILTO:lbconservancy@comcast.net
GEO:26.8816513;-82.3049401
X-APPLE-STRUCTURED-LOCATION;VALUE=URI;X-ADDRESS=Lemon Creek Wildflower Preserve 3120 Gasparilla Pines Blvd Englewood FL 34224 3120 Gasparilla Pines Blvd. Englewood FL 34224 United States;X-APPLE-RADIUS=500;X-TITLE=3120 Gasparilla Pines Blvd.:geo:-82.3049401,26.8816513
END:VEVENT
BEGIN:VEVENT
DTSTART;TZID=America/New_York:20250315T080000
DTEND;TZID=America/New_York:20250315T103000
DTSTAMP:20260423T070205
CREATED:20240829T152551Z
LAST-MODIFIED:20241106T162140Z
UID:10001850-1742025600-1742034600@lemonbayconservancy.org
SUMMARY:Juvenile Tarpon Research Net Pull
DESCRIPTION:Attention all new and returning Tarpon net pull volunteers\, are invited to participate in our  Tarpon pull event.  We will first need to load the seine net and other equipment in the Jon boat before using our UTV to tow the boat over to the ponds located by Fiddlers Green. Please use the Lemon Creek Wildflower Preserve parking lot and plan to meet at the equipment shed at 7:45 am. After we have finished loading up\, you can then drive your vehicle over to Fiddlers Green and use the carpark there for your convenience. The actual net pull will get underway around 8:30 am starting with the smaller of the two ponds. If you have waders please bring them along with gloves\, a hat\, water and mosquito repellant. Please contact Malcolm Collingwood at 917-915-1076 or malcolmcollingwood@gmail.com to RSVP for the event. This event is open to everyone in the local community that is interested in participating.
URL:https://lemonbayconservancy.org/event/juvenile-tarpon-research-net-pull-6/
LOCATION:Lemon Creek Wildflower Preserve\, 3120 Gasparilla Pines Blvd\, Englewood\, FL 34224\, 3120 Gasparilla Pines Blvd.\, Englewood\, FL\, 34224\, United States
CATEGORIES:Community Event,Educational,General,LBC Member Event,Tarpon Tagging,Volunteer Opportunities
ATTACH;FMTTYPE=image/jpeg:https://lemonbayconservancy.org/wp-content/uploads/2020/04/Tarpon-Pic-1.jpg
GEO:26.8816513;-82.3049401
X-APPLE-STRUCTURED-LOCATION;VALUE=URI;X-ADDRESS=Lemon Creek Wildflower Preserve 3120 Gasparilla Pines Blvd Englewood FL 34224 3120 Gasparilla Pines Blvd. Englewood FL 34224 United States;X-APPLE-RADIUS=500;X-TITLE=3120 Gasparilla Pines Blvd.:geo:-82.3049401,26.8816513
END:VEVENT
BEGIN:VEVENT
DTSTART;TZID=America/New_York:20250318T080000
DTEND;TZID=America/New_York:20250318T100000
DTSTAMP:20260423T070205
CREATED:20250308T232701Z
LAST-MODIFIED:20250308T232907Z
UID:10044652-1742284800-1742292000@lemonbayconservancy.org
SUMMARY:Volunteer Work Crew
DESCRIPTION:Volunteers meet at the Preserve on Tuesday and Thursday mornings to do maintenance and enhancement projects.  Come out and join us!  Activities include planting new native plants\, maintaining and enhancing the butterfly habitat\, mowing preserve trails\, clearing vines from recent plantings\, water quality monitoring\, and many other projects.  Some volunteers start at 7 am  while others choose to begin at 8 am.  Most people work two hours\, but your schedule is up to you.  If you’d like more information\, call the office at 941-830-8922 and we’ll put you in touch with our volunteer coordinators.
URL:https://lemonbayconservancy.org/event/volunteer-work-crew/2025-03-18/
LOCATION:Lemon Creek Wildflower Preserve\, 3120 Gasparilla Pines Blvd\, Englewood\, FL 34224\, 3120 Gasparilla Pines Blvd.\, Englewood\, FL\, 34224\, United States
CATEGORIES:Community Event,Exercise,Help Nature,Volunteer Opportunities
ATTACH;FMTTYPE=image/jpeg:https://lemonbayconservancy.org/wp-content/uploads/2024/01/volunteers-at-lbc.jpeg
ORGANIZER;CN="Lemon Bay Conservancy":MAILTO:lbconservancy@comcast.net
GEO:26.8816513;-82.3049401
X-APPLE-STRUCTURED-LOCATION;VALUE=URI;X-ADDRESS=Lemon Creek Wildflower Preserve 3120 Gasparilla Pines Blvd Englewood FL 34224 3120 Gasparilla Pines Blvd. Englewood FL 34224 United States;X-APPLE-RADIUS=500;X-TITLE=3120 Gasparilla Pines Blvd.:geo:-82.3049401,26.8816513
END:VEVENT
BEGIN:VEVENT
DTSTART;TZID=America/New_York:20250320T080000
DTEND;TZID=America/New_York:20250320T100000
DTSTAMP:20260423T070205
CREATED:20250308T232701Z
LAST-MODIFIED:20250308T232907Z
UID:10044653-1742457600-1742464800@lemonbayconservancy.org
SUMMARY:Volunteer Work Crew
DESCRIPTION:Volunteers meet at the Preserve on Tuesday and Thursday mornings to do maintenance and enhancement projects.  Come out and join us!  Activities include planting new native plants\, maintaining and enhancing the butterfly habitat\, mowing preserve trails\, clearing vines from recent plantings\, water quality monitoring\, and many other projects.  Some volunteers start at 7 am  while others choose to begin at 8 am.  Most people work two hours\, but your schedule is up to you.  If you’d like more information\, call the office at 941-830-8922 and we’ll put you in touch with our volunteer coordinators.
URL:https://lemonbayconservancy.org/event/volunteer-work-crew/2025-03-20/
LOCATION:Lemon Creek Wildflower Preserve\, 3120 Gasparilla Pines Blvd\, Englewood\, FL 34224\, 3120 Gasparilla Pines Blvd.\, Englewood\, FL\, 34224\, United States
CATEGORIES:Community Event,Exercise,Help Nature,Volunteer Opportunities
ATTACH;FMTTYPE=image/jpeg:https://lemonbayconservancy.org/wp-content/uploads/2024/01/volunteers-at-lbc.jpeg
ORGANIZER;CN="Lemon Bay Conservancy":MAILTO:lbconservancy@comcast.net
GEO:26.8816513;-82.3049401
X-APPLE-STRUCTURED-LOCATION;VALUE=URI;X-ADDRESS=Lemon Creek Wildflower Preserve 3120 Gasparilla Pines Blvd Englewood FL 34224 3120 Gasparilla Pines Blvd. Englewood FL 34224 United States;X-APPLE-RADIUS=500;X-TITLE=3120 Gasparilla Pines Blvd.:geo:-82.3049401,26.8816513
END:VEVENT
BEGIN:VEVENT
DTSTART;TZID=America/New_York:20250325T080000
DTEND;TZID=America/New_York:20250325T100000
DTSTAMP:20260423T070205
CREATED:20250308T232701Z
LAST-MODIFIED:20250308T232907Z
UID:10044654-1742889600-1742896800@lemonbayconservancy.org
SUMMARY:Volunteer Work Crew
DESCRIPTION:Volunteers meet at the Preserve on Tuesday and Thursday mornings to do maintenance and enhancement projects.  Come out and join us!  Activities include planting new native plants\, maintaining and enhancing the butterfly habitat\, mowing preserve trails\, clearing vines from recent plantings\, water quality monitoring\, and many other projects.  Some volunteers start at 7 am  while others choose to begin at 8 am.  Most people work two hours\, but your schedule is up to you.  If you’d like more information\, call the office at 941-830-8922 and we’ll put you in touch with our volunteer coordinators.
URL:https://lemonbayconservancy.org/event/volunteer-work-crew/2025-03-25/
LOCATION:Lemon Creek Wildflower Preserve\, 3120 Gasparilla Pines Blvd\, Englewood\, FL 34224\, 3120 Gasparilla Pines Blvd.\, Englewood\, FL\, 34224\, United States
CATEGORIES:Community Event,Exercise,Help Nature,Volunteer Opportunities
ATTACH;FMTTYPE=image/jpeg:https://lemonbayconservancy.org/wp-content/uploads/2024/01/volunteers-at-lbc.jpeg
ORGANIZER;CN="Lemon Bay Conservancy":MAILTO:lbconservancy@comcast.net
GEO:26.8816513;-82.3049401
X-APPLE-STRUCTURED-LOCATION;VALUE=URI;X-ADDRESS=Lemon Creek Wildflower Preserve 3120 Gasparilla Pines Blvd Englewood FL 34224 3120 Gasparilla Pines Blvd. Englewood FL 34224 United States;X-APPLE-RADIUS=500;X-TITLE=3120 Gasparilla Pines Blvd.:geo:-82.3049401,26.8816513
END:VEVENT
BEGIN:VEVENT
DTSTART;TZID=America/New_York:20250327T080000
DTEND;TZID=America/New_York:20250327T100000
DTSTAMP:20260423T070205
CREATED:20250308T232701Z
LAST-MODIFIED:20250308T232907Z
UID:10044655-1743062400-1743069600@lemonbayconservancy.org
SUMMARY:Volunteer Work Crew
DESCRIPTION:Volunteers meet at the Preserve on Tuesday and Thursday mornings to do maintenance and enhancement projects.  Come out and join us!  Activities include planting new native plants\, maintaining and enhancing the butterfly habitat\, mowing preserve trails\, clearing vines from recent plantings\, water quality monitoring\, and many other projects.  Some volunteers start at 7 am  while others choose to begin at 8 am.  Most people work two hours\, but your schedule is up to you.  If you’d like more information\, call the office at 941-830-8922 and we’ll put you in touch with our volunteer coordinators.
URL:https://lemonbayconservancy.org/event/volunteer-work-crew/2025-03-27/
LOCATION:Lemon Creek Wildflower Preserve\, 3120 Gasparilla Pines Blvd\, Englewood\, FL 34224\, 3120 Gasparilla Pines Blvd.\, Englewood\, FL\, 34224\, United States
CATEGORIES:Community Event,Exercise,Help Nature,Volunteer Opportunities
ATTACH;FMTTYPE=image/jpeg:https://lemonbayconservancy.org/wp-content/uploads/2024/01/volunteers-at-lbc.jpeg
ORGANIZER;CN="Lemon Bay Conservancy":MAILTO:lbconservancy@comcast.net
GEO:26.8816513;-82.3049401
X-APPLE-STRUCTURED-LOCATION;VALUE=URI;X-ADDRESS=Lemon Creek Wildflower Preserve 3120 Gasparilla Pines Blvd Englewood FL 34224 3120 Gasparilla Pines Blvd. Englewood FL 34224 United States;X-APPLE-RADIUS=500;X-TITLE=3120 Gasparilla Pines Blvd.:geo:-82.3049401,26.8816513
END:VEVENT
END:VCALENDAR