BEGIN:VCALENDAR
VERSION:2.0
PRODID:-//Lemon Bay Conservancy - ECPv6.15.18//NONSGML v1.0//EN
CALSCALE:GREGORIAN
METHOD:PUBLISH
X-ORIGINAL-URL:https://lemonbayconservancy.org
X-WR-CALDESC:Events for Lemon Bay Conservancy
REFRESH-INTERVAL;VALUE=DURATION:PT1H
X-Robots-Tag:noindex
X-PUBLISHED-TTL:PT1H
BEGIN:VTIMEZONE
TZID:America/New_York
BEGIN:DAYLIGHT
TZOFFSETFROM:-0500
TZOFFSETTO:-0400
TZNAME:EDT
DTSTART:20230312T070000
END:DAYLIGHT
BEGIN:STANDARD
TZOFFSETFROM:-0400
TZOFFSETTO:-0500
TZNAME:EST
DTSTART:20231105T060000
END:STANDARD
BEGIN:DAYLIGHT
TZOFFSETFROM:-0500
TZOFFSETTO:-0400
TZNAME:EDT
DTSTART:20240310T070000
END:DAYLIGHT
BEGIN:STANDARD
TZOFFSETFROM:-0400
TZOFFSETTO:-0500
TZNAME:EST
DTSTART:20241103T060000
END:STANDARD
BEGIN:DAYLIGHT
TZOFFSETFROM:-0500
TZOFFSETTO:-0400
TZNAME:EDT
DTSTART:20250309T070000
END:DAYLIGHT
BEGIN:STANDARD
TZOFFSETFROM:-0400
TZOFFSETTO:-0500
TZNAME:EST
DTSTART:20251102T060000
END:STANDARD
BEGIN:DAYLIGHT
TZOFFSETFROM:-0500
TZOFFSETTO:-0400
TZNAME:EDT
DTSTART:20260308T070000
END:DAYLIGHT
BEGIN:STANDARD
TZOFFSETFROM:-0400
TZOFFSETTO:-0500
TZNAME:EST
DTSTART:20261101T060000
END:STANDARD
BEGIN:DAYLIGHT
TZOFFSETFROM:-0500
TZOFFSETTO:-0400
TZNAME:EDT
DTSTART:20270314T070000
END:DAYLIGHT
BEGIN:STANDARD
TZOFFSETFROM:-0400
TZOFFSETTO:-0500
TZNAME:EST
DTSTART:20271107T060000
END:STANDARD
END:VTIMEZONE
BEGIN:VEVENT
DTSTART;TZID=America/New_York:20260205T173000
DTEND;TZID=America/New_York:20260205T200000
DTSTAMP:20260421T190116
CREATED:20241231T201507Z
LAST-MODIFIED:20251226T191619Z
UID:10009773-1770312600-1770321600@lemonbayconservancy.org
SUMMARY:Lemon Bay Coastal Seminar Series: Saving Seagrass to Save the World
DESCRIPTION:Dr. Jim Fourqurean\, Distinguished University Professor; Associate Director\, Institute of Environment\, Florida International University: “Saving Seagrass to Save the World”.  Dr. Fourquerean has spent decades studying the critical role seagrass meadows play in our global ecosystem.  Seagrasses are often called “lungs of the seas”\, but they are also one of our most potent weapons against climate change.  Seagrasses are under threat.  Join us to learn about the current state of Florida’s seagrass beds and what we can do to protect these “hidden forests” for future generations. \nImage courtesy of Creative Commons. https://creativecommons.org/licenses/by-nc/2.0/ \n\n\nJoin us for this free\, public seminar.  Refreshments at 5:30.  Presentation begins at 6:00.
URL:https://lemonbayconservancy.org/event/lemon-bay-coastal-seminar-series-saving-seagrass-to-save-the-world/
LOCATION:Cape Haze Community Center\, 180 Spyglass Aly\, Placida 33946\, 180 Spyglass Alley\, Placida\, FL\, 33946\, United States
CATEGORIES:Community Event,Educational,Help Nature,Water Quality
ATTACH;FMTTYPE=image/jpeg:https://lemonbayconservancy.org/wp-content/uploads/2024/12/35175303131_12d613efa5_k.jpg
GEO:26.852842;-82.2922033
X-APPLE-STRUCTURED-LOCATION;VALUE=URI;X-ADDRESS=Cape Haze Community Center 180 Spyglass Aly Placida 33946 180 Spyglass Alley Placida FL 33946 United States;X-APPLE-RADIUS=500;X-TITLE=180 Spyglass Alley:geo:-82.2922033,26.852842
END:VEVENT
BEGIN:VEVENT
DTSTART;TZID=America/New_York:20250307T090000
DTEND;TZID=America/New_York:20250307T113000
DTSTAMP:20260421T190116
CREATED:20250226T213913Z
LAST-MODIFIED:20250226T225452Z
UID:10044099-1741338000-1741347000@lemonbayconservancy.org
SUMMARY:Plastic Pulling Paddle
DESCRIPTION:We invite you to join us on a moderate 2 hour Kayak paddle as we continue working on removing plastic and debris from the mangroves in Lemon Bay Park.  Cleanup is easy\, fun and very satisfying. \nPlan on arriving at Indian Mound Park at 9:00 am and launch at 9:30 am.  Please bring your kayak\, paddle\, life jacket\, water\, sun lotion\, hat\, gloves\,  and a sense of humor.  Bring your own snack or lunch. \nRest rooms are available at Lemon Bay Park.  This is an LBC members only event. This is a members only event.  For questions\, contact Charlie Woodruff at 914-799-0664. \n  \n 
URL:https://lemonbayconservancy.org/event/plastic-pulling-paddle/
LOCATION:Indian Mound Park\, 210 Winson Ave\, Englewood\, FL\, 34223\, United States
CATEGORIES:Kayak,LBC Member Event,Water Quality
ATTACH;FMTTYPE=image/jpeg:https://lemonbayconservancy.org/wp-content/uploads/2025/02/Kayak.jpg
GEO:26.9569438;-82.3627556
X-APPLE-STRUCTURED-LOCATION;VALUE=URI;X-ADDRESS=Indian Mound Park 210 Winson Ave Englewood FL 34223 United States;X-APPLE-RADIUS=500;X-TITLE=210 Winson Ave:geo:-82.3627556,26.9569438
END:VEVENT
BEGIN:VEVENT
DTSTART;TZID=America/New_York:20241220T090000
DTEND;TZID=America/New_York:20241220T120000
DTSTAMP:20260421T190116
CREATED:20240904T174244Z
LAST-MODIFIED:20241211T144757Z
UID:10001908-1734685200-1734696000@lemonbayconservancy.org
SUMMARY:LakeWatch Water Sampling at the Preserve
DESCRIPTION:LBC volunteers will be conducting our monthly water quality sampling at six preserve ponds and three locations on Lemon Creek using the protocols defined by the University of Florida LakeWatch program.   Collected samples are sent to Gainsville for analysis by the LakeWatch team\, assessing nutrient and chlorophyll levels. \nSamples are collected by kayak.  We can always use help in the boats and on shore. \nIf interested in volunteering or observing\, please contact our office at 941-830-8922 or info@LemonBayConservancy.org for more information.
URL:https://lemonbayconservancy.org/event/lakewatch-water-sampling-at-the-preserve-7/
LOCATION:Lemon Creek Wildflower Preserve\, 3120 Gasparilla Pines Blvd\, Englewood\, FL 34224\, 3120 Gasparilla Pines Blvd.\, Englewood\, FL\, 34224\, United States
CATEGORIES:Water Quality,Water Sampling
ATTACH;FMTTYPE=image/jpeg:https://lemonbayconservancy.org/wp-content/uploads/2023/08/David-Hai-Toh-Water-Sampling.jpg
ORGANIZER;CN="Lemon Bay Conservancy":MAILTO:lbconservancy@comcast.net
GEO:26.8816513;-82.3049401
X-APPLE-STRUCTURED-LOCATION;VALUE=URI;X-ADDRESS=Lemon Creek Wildflower Preserve 3120 Gasparilla Pines Blvd Englewood FL 34224 3120 Gasparilla Pines Blvd. Englewood FL 34224 United States;X-APPLE-RADIUS=500;X-TITLE=3120 Gasparilla Pines Blvd.:geo:-82.3049401,26.8816513
END:VEVENT
BEGIN:VEVENT
DTSTART;TZID=America/New_York:20241119T100000
DTEND;TZID=America/New_York:20241119T130000
DTSTAMP:20260421T190116
CREATED:20240904T174215Z
LAST-MODIFIED:20240904T174215Z
UID:10001907-1732010400-1732021200@lemonbayconservancy.org
SUMMARY:LakeWatch Water Sampling at the Preserve
DESCRIPTION:LBC volunteers will be conducting our monthly water quality sampling at six preserve ponds and three locations on Lemon Creek using the protocols defined by the University of Florida LakeWatch program.   Collected samples are sent to Gainsville for analysis by the LakeWatch team\, assessing nutrient and chlorophyll levels. \nSamples are collected by kayak.  We can always use help in the boats and on shore. \nIf interested in volunteering or observing\, please contact our office at 941-830-8922 or info@LemonBayConservancy.org for more information.
URL:https://lemonbayconservancy.org/event/lakewatch-water-sampling-at-the-preserve-6/
LOCATION:Lemon Creek Wildflower Preserve\, 3120 Gasparilla Pines Blvd\, Englewood\, FL 34224\, 3120 Gasparilla Pines Blvd.\, Englewood\, FL\, 34224\, United States
CATEGORIES:Water Quality,Water Sampling
ATTACH;FMTTYPE=image/jpeg:https://lemonbayconservancy.org/wp-content/uploads/2023/08/David-Hai-Toh-Water-Sampling.jpg
ORGANIZER;CN="Lemon Bay Conservancy":MAILTO:lbconservancy@comcast.net
GEO:26.8816513;-82.3049401
X-APPLE-STRUCTURED-LOCATION;VALUE=URI;X-ADDRESS=Lemon Creek Wildflower Preserve 3120 Gasparilla Pines Blvd Englewood FL 34224 3120 Gasparilla Pines Blvd. Englewood FL 34224 United States;X-APPLE-RADIUS=500;X-TITLE=3120 Gasparilla Pines Blvd.:geo:-82.3049401,26.8816513
END:VEVENT
BEGIN:VEVENT
DTSTART;TZID=America/New_York:20241015T090000
DTEND;TZID=America/New_York:20241015T120000
DTSTAMP:20260421T190116
CREATED:20240904T174139Z
LAST-MODIFIED:20241012T112620Z
UID:10001906-1728982800-1728993600@lemonbayconservancy.org
SUMMARY:LakeWatch Water Sampling at the Preserve
DESCRIPTION:** CANCELLED DUE TO HURRICANE MILTON FLOODING ** LBC volunteers will be conducting our monthly water quality sampling at six preserve ponds and three locations on Lemon Creek using the protocols defined by the University of Florida LakeWatch program.   Collected samples are sent to Gainsville for analysis by the LakeWatch team\, assessing nutrient and chlorophyll levels. \nSamples are collected by kayak.  We can always use help in the boats and on shore. \nIf interested in volunteering or observing\, please contact our office at 941-830-8922 or info@LemonBayConservancy.org for more information.
URL:https://lemonbayconservancy.org/event/lakewatch-water-sampling-at-the-preserve-5/
LOCATION:Lemon Creek Wildflower Preserve\, 3120 Gasparilla Pines Blvd\, Englewood\, FL 34224\, 3120 Gasparilla Pines Blvd.\, Englewood\, FL\, 34224\, United States
CATEGORIES:Water Quality,Water Sampling
ATTACH;FMTTYPE=image/jpeg:https://lemonbayconservancy.org/wp-content/uploads/2023/08/David-Hai-Toh-Water-Sampling.jpg
ORGANIZER;CN="Lemon Bay Conservancy":MAILTO:lbconservancy@comcast.net
GEO:26.8816513;-82.3049401
X-APPLE-STRUCTURED-LOCATION;VALUE=URI;X-ADDRESS=Lemon Creek Wildflower Preserve 3120 Gasparilla Pines Blvd Englewood FL 34224 3120 Gasparilla Pines Blvd. Englewood FL 34224 United States;X-APPLE-RADIUS=500;X-TITLE=3120 Gasparilla Pines Blvd.:geo:-82.3049401,26.8816513
END:VEVENT
BEGIN:VEVENT
DTSTART;TZID=America/New_York:20240919T090000
DTEND;TZID=America/New_York:20240919T120000
DTSTAMP:20260421T190116
CREATED:20240830T201013Z
LAST-MODIFIED:20240911T210534Z
UID:10001858-1726736400-1726747200@lemonbayconservancy.org
SUMMARY:LakeWatch Water Sampling at the Preserve
DESCRIPTION:LBC volunteers will be conducting our monthly water quality sampling at six preserve ponds and three locations on Lemon Creek using the protocols defined by the University of Florida LakeWatch program.   Collected samples are sent to Gainsville for analysis by the LakeWatch team\, assessing nutrient and chlorophyll levels.  ** September schedule will be split across two dates\, Sept. 17 and Sept. 19. ** \nSamples are collected by kayak.  We can always use help in the boats and on shore. \nIf interested in volunteering or observing\, please contact our office at 941-830-8922 or info@LemonBayConservancy.org for more information.
URL:https://lemonbayconservancy.org/event/lakewatch-water-sampling-at-the-preserve-3/
LOCATION:Lemon Creek Wildflower Preserve\, 3120 Gasparilla Pines Blvd\, Englewood\, FL 34224\, 3120 Gasparilla Pines Blvd.\, Englewood\, FL\, 34224\, United States
CATEGORIES:Water Quality,Water Sampling
ATTACH;FMTTYPE=image/jpeg:https://lemonbayconservancy.org/wp-content/uploads/2023/08/David-Hai-Toh-Water-Sampling.jpg
ORGANIZER;CN="Lemon Bay Conservancy":MAILTO:lbconservancy@comcast.net
GEO:26.8816513;-82.3049401
X-APPLE-STRUCTURED-LOCATION;VALUE=URI;X-ADDRESS=Lemon Creek Wildflower Preserve 3120 Gasparilla Pines Blvd Englewood FL 34224 3120 Gasparilla Pines Blvd. Englewood FL 34224 United States;X-APPLE-RADIUS=500;X-TITLE=3120 Gasparilla Pines Blvd.:geo:-82.3049401,26.8816513
END:VEVENT
BEGIN:VEVENT
DTSTART;TZID=America/New_York:20240917T090000
DTEND;TZID=America/New_York:20240917T120000
DTSTAMP:20260421T190116
CREATED:20240904T174052Z
LAST-MODIFIED:20240904T174052Z
UID:10001905-1726563600-1726574400@lemonbayconservancy.org
SUMMARY:LakeWatch Water Sampling at the Preserve
DESCRIPTION:LBC volunteers will be conducting our monthly water quality sampling at six preserve ponds and three locations on Lemon Creek using the protocols defined by the University of Florida LakeWatch program.   Collected samples are sent to Gainsville for analysis by the LakeWatch team\, assessing nutrient and chlorophyll levels. \nSamples are collected by kayak.  We can always use help in the boats and on shore. \nIf interested in volunteering or observing\, please contact our office at 941-830-8922 or info@LemonBayConservancy.org for more information.
URL:https://lemonbayconservancy.org/event/lakewatch-water-sampling-at-the-preserve-4/
LOCATION:Lemon Creek Wildflower Preserve\, 3120 Gasparilla Pines Blvd\, Englewood\, FL 34224\, 3120 Gasparilla Pines Blvd.\, Englewood\, FL\, 34224\, United States
CATEGORIES:Water Quality,Water Sampling
ATTACH;FMTTYPE=image/jpeg:https://lemonbayconservancy.org/wp-content/uploads/2023/08/David-Hai-Toh-Water-Sampling.jpg
ORGANIZER;CN="Lemon Bay Conservancy":MAILTO:lbconservancy@comcast.net
GEO:26.8816513;-82.3049401
X-APPLE-STRUCTURED-LOCATION;VALUE=URI;X-ADDRESS=Lemon Creek Wildflower Preserve 3120 Gasparilla Pines Blvd Englewood FL 34224 3120 Gasparilla Pines Blvd. Englewood FL 34224 United States;X-APPLE-RADIUS=500;X-TITLE=3120 Gasparilla Pines Blvd.:geo:-82.3049401,26.8816513
END:VEVENT
BEGIN:VEVENT
DTSTART;TZID=America/New_York:20240820T090000
DTEND;TZID=America/New_York:20240820T120000
DTSTAMP:20260421T190116
CREATED:20240606T210444Z
LAST-MODIFIED:20240606T210444Z
UID:10001834-1724144400-1724155200@lemonbayconservancy.org
SUMMARY:August LakeWatch Water Sampling at the Preserve
DESCRIPTION:LBC volunteers will be conducting our monthly water quality sampling at six preserve ponds and three locations on Lemon Creek using the protocols defined by the University of Florida LakeWatch program.   Collected samples are sent to Gainsville for analysis by the LakeWatch team\, assessing nutrient and chlorophyll levels. \nSamples are collected by kayak.  We can always use help in the boats and on shore. \nIf interested in volunteering or observing\, please contact our office at 941-830-8922 or info@LemonBayConservancy.org for more information.
URL:https://lemonbayconservancy.org/event/august-lakewatch-water-sampling-at-the-preserve/
LOCATION:Lemon Creek Wildflower Preserve\, 3120 Gasparilla Pines Blvd\, Englewood\, FL 34224\, 3120 Gasparilla Pines Blvd.\, Englewood\, FL\, 34224\, United States
CATEGORIES:Water Quality,Water Sampling
ATTACH;FMTTYPE=image/jpeg:https://lemonbayconservancy.org/wp-content/uploads/2023/08/David-Hai-Toh-Water-Sampling.jpg
ORGANIZER;CN="Lemon Bay Conservancy":MAILTO:lbconservancy@comcast.net
GEO:26.8816513;-82.3049401
X-APPLE-STRUCTURED-LOCATION;VALUE=URI;X-ADDRESS=Lemon Creek Wildflower Preserve 3120 Gasparilla Pines Blvd Englewood FL 34224 3120 Gasparilla Pines Blvd. Englewood FL 34224 United States;X-APPLE-RADIUS=500;X-TITLE=3120 Gasparilla Pines Blvd.:geo:-82.3049401,26.8816513
END:VEVENT
BEGIN:VEVENT
DTSTART;TZID=America/New_York:20240716T090000
DTEND;TZID=America/New_York:20240716T120000
DTSTAMP:20260421T190116
CREATED:20240606T210332Z
LAST-MODIFIED:20240606T210332Z
UID:10001833-1721120400-1721131200@lemonbayconservancy.org
SUMMARY:July LakeWatch Water Sampling at the Preserve
DESCRIPTION:LBC volunteers will be conducting our monthly water quality sampling at six preserve ponds and three locations on Lemon Creek using the protocols defined by the University of Florida LakeWatch program.   Collected samples are sent to Gainsville for analysis by the LakeWatch team\, assessing nutrient and chlorophyll levels. \nSamples are collected by kayak.  We can always use help in the boats and on shore. \nIf interested in volunteering or observing\, please contact our office at 941-830-8922 or info@LemonBayConservancy.org for more information.
URL:https://lemonbayconservancy.org/event/july-lakewatch-water-sampling-at-the-preserve/
LOCATION:Lemon Creek Wildflower Preserve\, 3120 Gasparilla Pines Blvd\, Englewood\, FL 34224\, 3120 Gasparilla Pines Blvd.\, Englewood\, FL\, 34224\, United States
CATEGORIES:Water Quality,Water Sampling
ATTACH;FMTTYPE=image/jpeg:https://lemonbayconservancy.org/wp-content/uploads/2023/08/David-Hai-Toh-Water-Sampling.jpg
ORGANIZER;CN="Lemon Bay Conservancy":MAILTO:lbconservancy@comcast.net
GEO:26.8816513;-82.3049401
X-APPLE-STRUCTURED-LOCATION;VALUE=URI;X-ADDRESS=Lemon Creek Wildflower Preserve 3120 Gasparilla Pines Blvd Englewood FL 34224 3120 Gasparilla Pines Blvd. Englewood FL 34224 United States;X-APPLE-RADIUS=500;X-TITLE=3120 Gasparilla Pines Blvd.:geo:-82.3049401,26.8816513
END:VEVENT
BEGIN:VEVENT
DTSTART;TZID=America/New_York:20240620T090000
DTEND;TZID=America/New_York:20240620T120000
DTSTAMP:20260421T190116
CREATED:20240606T210142Z
LAST-MODIFIED:20240606T210142Z
UID:10001832-1718874000-1718884800@lemonbayconservancy.org
SUMMARY:LakeWatch Water Sampling at the Preserve
DESCRIPTION:LBC volunteers will be conducting our monthly water quality sampling at six preserve ponds and three locations on Lemon Creek using the protocols defined by the University of Florida LakeWatch program.   Collected samples are sent to Gainsville for analysis by the LakeWatch team\, assessing nutrient and chlorophyll levels. \nSamples are collected by kayak.  We can always use help in the boats and on shore. \nIf interested in volunteering or observing\, please contact our office at 941-830-8922 or info@LemonBayConservancy.org for more information.
URL:https://lemonbayconservancy.org/event/lakewatch-water-sampling-at-the-preserve-2/
LOCATION:Lemon Creek Wildflower Preserve\, 3120 Gasparilla Pines Blvd\, Englewood\, FL 34224\, 3120 Gasparilla Pines Blvd.\, Englewood\, FL\, 34224\, United States
CATEGORIES:Water Quality,Water Sampling
ATTACH;FMTTYPE=image/jpeg:https://lemonbayconservancy.org/wp-content/uploads/2023/08/David-Hai-Toh-Water-Sampling.jpg
ORGANIZER;CN="Lemon Bay Conservancy":MAILTO:lbconservancy@comcast.net
GEO:26.8816513;-82.3049401
X-APPLE-STRUCTURED-LOCATION;VALUE=URI;X-ADDRESS=Lemon Creek Wildflower Preserve 3120 Gasparilla Pines Blvd Englewood FL 34224 3120 Gasparilla Pines Blvd. Englewood FL 34224 United States;X-APPLE-RADIUS=500;X-TITLE=3120 Gasparilla Pines Blvd.:geo:-82.3049401,26.8816513
END:VEVENT
BEGIN:VEVENT
DTSTART;TZID=America/New_York:20240521T090000
DTEND;TZID=America/New_York:20240521T120000
DTSTAMP:20260421T190116
CREATED:20240506T185923Z
LAST-MODIFIED:20240506T185923Z
UID:10001831-1716282000-1716292800@lemonbayconservancy.org
SUMMARY:LakeWatch Water Sampling at the Preserve
DESCRIPTION:On May 21\, 2024\, LBC volunteers will be conducting our monthly water quality sampling at six preserve ponds and three locations on Lemon Creek using the protocols defined by the University of Florida LakeWatch program.   Collected samples are sent to Gainsville for analysis by the LakeWatch team\, assessing nutrient and chlorophyll levels. \nSamples are collected by kayak.  We can always use help in the boats and on shore. \nIf interested in volunteering or observing\, please contact our office at 941-830-8922 or info@LemonBayConservancy.org for more information.
URL:https://lemonbayconservancy.org/event/lakewatch-water-sampling-at-the-preserve/
LOCATION:Lemon Creek Wildflower Preserve\, 3120 Gasparilla Pines Blvd\, Englewood\, FL 34224\, 3120 Gasparilla Pines Blvd.\, Englewood\, FL\, 34224\, United States
CATEGORIES:Water Quality,Water Sampling
ATTACH;FMTTYPE=image/jpeg:https://lemonbayconservancy.org/wp-content/uploads/2023/08/David-Hai-Toh-Water-Sampling.jpg
ORGANIZER;CN="Lemon Bay Conservancy":MAILTO:lbconservancy@comcast.net
GEO:26.8816513;-82.3049401
X-APPLE-STRUCTURED-LOCATION;VALUE=URI;X-ADDRESS=Lemon Creek Wildflower Preserve 3120 Gasparilla Pines Blvd Englewood FL 34224 3120 Gasparilla Pines Blvd. Englewood FL 34224 United States;X-APPLE-RADIUS=500;X-TITLE=3120 Gasparilla Pines Blvd.:geo:-82.3049401,26.8816513
END:VEVENT
BEGIN:VEVENT
DTSTART;TZID=America/New_York:20240508T173000
DTEND;TZID=America/New_York:20240508T193000
DTSTAMP:20260421T190116
CREATED:20240419T190633Z
LAST-MODIFIED:20240425T165758Z
UID:10001825-1715189400-1715196600@lemonbayconservancy.org
SUMMARY:Coastal Water Quality: The Roles of Septic Systems\, Advanced Water Treatment\, Reclaimed Water\, and Stormwater
DESCRIPTION:Join us for a free talk on May 8th as University of Florida professor Dr. Mary Lusk discusses how different water sources can influence our coastal water quality. \nThe seminar will cover: \n\nSeptic systems: Friend or foe? Unveiling the hidden impacts on our coastal waters.\nAdvanced Wastewater Treatment: Exploring innovative solutions for cleaner\, healthier ecosystems.\nReclaimed Water: Is it safe? Is there a catch?\nStormwater Ponds:  How can we reduce potential impacts on coastal water quality?\n\nCome discover the science behind healthy waterways\, explore cutting-edge wastewater treatment solutions\, and learn how YOU can make a difference.  Whether you’re a homeowner\, a government official\, or simply a concerned citizen\, this seminar is for you! Come learn how we can work together to safeguard Florida’s water future. \nDr. Lusk is one of the foremost experts on nutrients and how they move through the environment.  She has contributed as an author to more than 80 peer-reviewed scientific publications on nutrient related topics ranging from septic system environmental impacts to wastewater treatment and reclaimed water. \nDr. Lusk’s presentation will include discussion of recent findings from UF researchers regarding rapid growth of red tide blooms when exposed to nutrients from reclaimed water and stormwater.  (Read more in this article: www.wusf.org/environment/2023-09-22/stormwater-ponds-and-reclaimed-water-use-feed-toxic-red-tide-algae-blooms-florida-researchers-findStormwater Ponds and Reclaimed Water Feed Toxic Red Tide Blooms.) \nHere is a video featuring Dr. Lusk: https://www.fox13news.com/video/1000008 \nDon’t miss this fascinating session! \nDate: Wednesday May 8th \nTime: 5:30 PM refreshments\, 6:00 PM seminar followed by Q&A \nLocation: Cape Haze Community Center\, 180 Spyglass Alley\, Placida\, FL 33946 \nDirections:  the Cape Haze Community Center is located at 180 Spyglass Alley\, Placida\, FL 33946\, at the intersection of Spyglass Alley and Spaniards Road. Parking is available on both streets. To reach the Community Center from Placida Road (Hwy. 775)\, turn west onto Cape Haze Drive. At the traffic circle\, take the first right (heading north) onto Spaniards Rd. The Community Center will be just ahead on your left. \nThe seminar is free and open to the public. \nPresented and sponsored by Lemon Bay Conservancy www.lemonbayconservancy.org \nFor more information contact Rob Robbins\, robbins450gd@gmail.com \n 
URL:https://lemonbayconservancy.org/event/coastalwaterquality/
LOCATION:Cape Haze Community Center\, 180 Spyglass Alley\, Placida\, FL\, 33946\, United States
CATEGORIES:Community Event,Educational,Water Quality
ATTACH;FMTTYPE=image/jpeg:https://lemonbayconservancy.org/wp-content/uploads/2018/07/Sunset-over-Lemon-Bay-in-low-tide.jpg
GEO:26.853294;-82.293366
X-APPLE-STRUCTURED-LOCATION;VALUE=URI;X-ADDRESS=Cape Haze Community Center 180 Spyglass Alley Placida FL 33946 United States;X-APPLE-RADIUS=500;X-TITLE=180 Spyglass Alley:geo:-82.293366,26.853294
END:VEVENT
END:VCALENDAR