BEGIN:VCALENDAR
VERSION:2.0
PRODID:-//Lemon Bay Conservancy - ECPv6.15.18//NONSGML v1.0//EN
CALSCALE:GREGORIAN
METHOD:PUBLISH
X-WR-CALNAME:Lemon Bay Conservancy
X-ORIGINAL-URL:https://lemonbayconservancy.org
X-WR-CALDESC:Events for Lemon Bay Conservancy
REFRESH-INTERVAL;VALUE=DURATION:PT1H
X-Robots-Tag:noindex
X-PUBLISHED-TTL:PT1H
BEGIN:VTIMEZONE
TZID:America/New_York
BEGIN:DAYLIGHT
TZOFFSETFROM:-0500
TZOFFSETTO:-0400
TZNAME:EDT
DTSTART:20220313T070000
END:DAYLIGHT
BEGIN:STANDARD
TZOFFSETFROM:-0400
TZOFFSETTO:-0500
TZNAME:EST
DTSTART:20221106T060000
END:STANDARD
BEGIN:DAYLIGHT
TZOFFSETFROM:-0500
TZOFFSETTO:-0400
TZNAME:EDT
DTSTART:20230312T070000
END:DAYLIGHT
BEGIN:STANDARD
TZOFFSETFROM:-0400
TZOFFSETTO:-0500
TZNAME:EST
DTSTART:20231105T060000
END:STANDARD
BEGIN:DAYLIGHT
TZOFFSETFROM:-0500
TZOFFSETTO:-0400
TZNAME:EDT
DTSTART:20240310T070000
END:DAYLIGHT
BEGIN:STANDARD
TZOFFSETFROM:-0400
TZOFFSETTO:-0500
TZNAME:EST
DTSTART:20241103T060000
END:STANDARD
END:VTIMEZONE
BEGIN:VEVENT
DTSTART;VALUE=DATE:20230506
DTEND;VALUE=DATE:20230507
DTSTAMP:20260421T141023
CREATED:20230505T013231Z
LAST-MODIFIED:20230505T013307Z
UID:10000162-1683331200-1683417599@lemonbayconservancy.org
SUMMARY:World Labyrinth Day Big Connection 3.0
DESCRIPTION:
URL:https://lemonbayconservancy.org/world-labyrinth-day-big-connection/
LOCATION:Lemon Creek Wildflower Preserve\, 3120 Gasparilla Pines Blvd\, Englewood\, FL 34224\, 3120 Gasparilla Pines Blvd.\, Englewood\, FL\, 34224\, United States
ATTACH;FMTTYPE=image/png:https://lemonbayconservancy.org/wp-content/uploads/2023/05/big-connection.png
GEO:26.8816513;-82.3049401
X-APPLE-STRUCTURED-LOCATION;VALUE=URI;X-ADDRESS=Lemon Creek Wildflower Preserve 3120 Gasparilla Pines Blvd Englewood FL 34224 3120 Gasparilla Pines Blvd. Englewood FL 34224 United States;X-APPLE-RADIUS=500;X-TITLE=3120 Gasparilla Pines Blvd.:geo:-82.3049401,26.8816513
END:VEVENT
BEGIN:VEVENT
DTSTART;TZID=America/New_York:20230505T090000
DTEND;TZID=America/New_York:20230505T110000
DTSTAMP:20260421T141023
CREATED:20230418T191333Z
LAST-MODIFIED:20230529T032327Z
UID:10000160-1683277200-1683284400@lemonbayconservancy.org
SUMMARY:Worldwide Labyrinth Day
DESCRIPTION:In honor of Worldwide Labyrinth Day\, VP of Outreach/Education for the Labyrinth Society\, Frank Faine will be leading a guided walk at the Lemon Creek Wildflower Preserve “Labyrinth on the Hill” on May 5 from 9:00am-11:00am. 3120 Gasparilla Pines Boulevard\, Englewood FL 34223. \nFrank is the project coordinator for the Rollins College Labyrinth Project\, which has been designated a Legacy Labyrinth\, an effort that works to create a global network of labyrinths dedicated to peace and healing. \nAdditionally\, his work is developing innovative ways to share the labyrinth experience and create a more collaborative model for the World Wide Labyrinth Day annual event. \nAll are welcome to join us as we walk together connecting the global labyrinth community in fresh\, new ways. Please wear comfortable footwear\, a hat\, sunscreen\, and bring a water bottle.
URL:https://lemonbayconservancy.org/event/worldwide-labyrinth-day/
LOCATION:Lemon Creek Wildflower Preserve\, 3120 Gasparilla Pines Blvd\, Englewood\, FL 34224\, 3120 Gasparilla Pines Blvd.\, Englewood\, FL\, 34224\, United States
CATEGORIES:Community Event,Educational,Exercise,General,Labyrinth,Nature Walk
ATTACH;FMTTYPE=image/jpeg:https://lemonbayconservancy.org/wp-content/uploads/2023/02/20230211_1166-a.jpg
GEO:26.8816513;-82.3049401
X-APPLE-STRUCTURED-LOCATION;VALUE=URI;X-ADDRESS=Lemon Creek Wildflower Preserve 3120 Gasparilla Pines Blvd Englewood FL 34224 3120 Gasparilla Pines Blvd. Englewood FL 34224 United States;X-APPLE-RADIUS=500;X-TITLE=3120 Gasparilla Pines Blvd.:geo:-82.3049401,26.8816513
END:VEVENT
BEGIN:VEVENT
DTSTART;TZID=America/New_York:20230502T090000
DTEND;TZID=America/New_York:20230502T120000
DTSTAMP:20260421T141023
CREATED:20230426T175342Z
LAST-MODIFIED:20230428T142308Z
UID:10000161-1683018000-1683028800@lemonbayconservancy.org
SUMMARY:Rock Garden Workshop at Lemon Creek Wildflower Preserve
DESCRIPTION:Join us for our first rock garden workshop at Lemon Creek Wildflower Preserve 3321 Gasparilla Pines Boulevard Englewood Fl at 9:00am on May 2\, 2023. We will provide paint\, brushes\, some cocktail napkins\, mod podge for decoupage\, and a couple different types of acrylic pens for group use. Of course\, you are welcome to and may want to bring your personal supplies as well. \nParticipants are encouraged to bring rocks or shells to decorate. River rocks are ideal\, because they take paint well and are easier to draw on. Parchment paper is also good to work on \, so be sure to bring a sheet or two along with you if you wish. We will have paper towels\, garbage bags\, and a few coloring books to use as examples for drawing. \nDecoupage takes a bit of time to dry\, so our workshop instructor Bonnie Stuhlmiller will take these items home to coat with spray. Participants will need to make arrangements for pick up or donation of finished work to be used at the Labyrinth on the Hill rock garden. Everyone is welcome to bring along creative ideas and to participate.
URL:https://lemonbayconservancy.org/event/rock-garden-workshop-at-lemon-creek-wildflower-preserve/
LOCATION:Lemon Creek Wildflower Preserve\, 3120 Gasparilla Pines Blvd\, Englewood\, FL 34224\, 3120 Gasparilla Pines Blvd.\, Englewood\, FL\, 34224\, United States
CATEGORIES:Community Event,Educational,General
ATTACH;FMTTYPE=image/jpeg:https://lemonbayconservancy.org/wp-content/uploads/2023/04/68edca18bb602b3dd0da4ef01006b0a6.jpg
GEO:26.8816513;-82.3049401
X-APPLE-STRUCTURED-LOCATION;VALUE=URI;X-ADDRESS=Lemon Creek Wildflower Preserve 3120 Gasparilla Pines Blvd Englewood FL 34224 3120 Gasparilla Pines Blvd. Englewood FL 34224 United States;X-APPLE-RADIUS=500;X-TITLE=3120 Gasparilla Pines Blvd.:geo:-82.3049401,26.8816513
END:VEVENT
BEGIN:VEVENT
DTSTART;TZID=America/New_York:20230429T090000
DTEND;TZID=America/New_York:20230429T103000
DTSTAMP:20260421T141023
CREATED:20230331T190348Z
LAST-MODIFIED:20230331T190348Z
UID:10000157-1682758800-1682764200@lemonbayconservancy.org
SUMMARY:Butterfly Expedition
DESCRIPTION:James Peterfeso will lead a guided butterfly expedition meeting at the Butterfly Habitat and continuing onward to the preserve trails. \nJoin us as we explore the grassy areas near Hosman\, Moorhen\, and Verna’s ponds. \nPlease bring your binoculars\, cameras\, water bottles\, sunscreen\, and bug repellent. All participants should wear comfortable\, protective attire\, especially footwear. \n 
URL:https://lemonbayconservancy.org/event/butterfly-expedition-2/
LOCATION:Lemon Creek Wildflower Preserve\, 3120 Gasparilla Pines Blvd\, Englewood\, FL 34224\, 3120 Gasparilla Pines Blvd.\, Englewood\, FL\, 34224\, United States
CATEGORIES:Community Event,Educational,Exercise,General,Nature Walk
ATTACH;FMTTYPE=image/jpeg:https://lemonbayconservancy.org/wp-content/uploads/2020/08/Swallowtail-spicebush-male-on-butterfly-bush-NC-yard-8.4.20-Bill-Dunson-IMG_6988-aa.jpg
GEO:26.8816513;-82.3049401
X-APPLE-STRUCTURED-LOCATION;VALUE=URI;X-ADDRESS=Lemon Creek Wildflower Preserve 3120 Gasparilla Pines Blvd Englewood FL 34224 3120 Gasparilla Pines Blvd. Englewood FL 34224 United States;X-APPLE-RADIUS=500;X-TITLE=3120 Gasparilla Pines Blvd.:geo:-82.3049401,26.8816513
END:VEVENT
BEGIN:VEVENT
DTSTART;TZID=America/New_York:20230426T090000
DTEND;TZID=America/New_York:20230426T100000
DTSTAMP:20260421T141023
CREATED:20230331T190010Z
LAST-MODIFIED:20230529T032342Z
UID:10000156-1682499600-1682503200@lemonbayconservancy.org
SUMMARY:Labyrinth on the Hill
DESCRIPTION:Anne Bonney will lead a guided tour of the Labyrinth on the Hill at Lemon Creek Wildflower Preserve meeting at the kiosk area. \nAnne is a founding member of the Pilgrim’s Landing Labyrinth on Cape Cod and is a member of the faculty and Board of Directors of Veriditas\, known widely as the International Organization of the modern Labyrinth movement. \nJoin us for an introspective\, instructional\, inspirational journey through the 7 circuits of the new Labyrinth on the Hill. All are welcome. \nParticipants are invited to journal\, video\, photograph\, and wear protective footwear. \n 
URL:https://lemonbayconservancy.org/event/labyrinth-on-the-hill-2/
LOCATION:Lemon Creek Wildflower Preserve\, 3120 Gasparilla Pines Blvd\, Englewood\, FL 34224\, 3120 Gasparilla Pines Blvd.\, Englewood\, FL\, 34224\, United States
CATEGORIES:Community Event,Educational,Exercise,General,Labyrinth,Nature Walk
ATTACH;FMTTYPE=image/jpeg:https://lemonbayconservancy.org/wp-content/uploads/2023/02/20230211_1166-a.jpg
GEO:26.8816513;-82.3049401
X-APPLE-STRUCTURED-LOCATION;VALUE=URI;X-ADDRESS=Lemon Creek Wildflower Preserve 3120 Gasparilla Pines Blvd Englewood FL 34224 3120 Gasparilla Pines Blvd. Englewood FL 34224 United States;X-APPLE-RADIUS=500;X-TITLE=3120 Gasparilla Pines Blvd.:geo:-82.3049401,26.8816513
END:VEVENT
END:VCALENDAR