BEGIN:VCALENDAR
VERSION:2.0
PRODID:-//Lemon Bay Conservancy - ECPv6.15.18//NONSGML v1.0//EN
CALSCALE:GREGORIAN
METHOD:PUBLISH
X-WR-CALNAME:Lemon Bay Conservancy
X-ORIGINAL-URL:https://lemonbayconservancy.org
X-WR-CALDESC:Events for Lemon Bay Conservancy
REFRESH-INTERVAL;VALUE=DURATION:PT1H
X-Robots-Tag:noindex
X-PUBLISHED-TTL:PT1H
BEGIN:VTIMEZONE
TZID:America/New_York
BEGIN:DAYLIGHT
TZOFFSETFROM:-0500
TZOFFSETTO:-0400
TZNAME:EDT
DTSTART:20250309T070000
END:DAYLIGHT
BEGIN:STANDARD
TZOFFSETFROM:-0400
TZOFFSETTO:-0500
TZNAME:EST
DTSTART:20251102T060000
END:STANDARD
BEGIN:DAYLIGHT
TZOFFSETFROM:-0500
TZOFFSETTO:-0400
TZNAME:EDT
DTSTART:20260308T070000
END:DAYLIGHT
BEGIN:STANDARD
TZOFFSETFROM:-0400
TZOFFSETTO:-0500
TZNAME:EST
DTSTART:20261101T060000
END:STANDARD
BEGIN:DAYLIGHT
TZOFFSETFROM:-0500
TZOFFSETTO:-0400
TZNAME:EDT
DTSTART:20270314T070000
END:DAYLIGHT
BEGIN:STANDARD
TZOFFSETFROM:-0400
TZOFFSETTO:-0500
TZNAME:EST
DTSTART:20271107T060000
END:STANDARD
END:VTIMEZONE
BEGIN:VEVENT
DTSTART;TZID=America/New_York:20260325T160000
DTEND;TZID=America/New_York:20260325T180000
DTSTAMP:20260423T023531
CREATED:20260312T150330Z
LAST-MODIFIED:20260402T133419Z
UID:10046401-1774454400-1774461600@lemonbayconservancy.org
SUMMARY:Rock Painting Workshop
DESCRIPTION:You are invited to join us for a rock garden painting session on Wednesday\, March 25\, 2026\, at 4:00 pm.  Meet at the kiosk. We will guide participants on a guided nature walk to learn about flowers\, trees and wildlife then we will paint rocks. Paint\, brushes\, mod podge for decoupage\, and several different types of acrylic pens will be provided. A walk to the garden to leave the art will then commence and a visit to the Preserve Labyrinth.  Kids are invited\, provided supervising adults\, are also in attendance.
URL:https://lemonbayconservancy.org/event/march-rock-painting-workshop/2026-03-25/
LOCATION:Lemon Creek Wildflower Preserve\, 3120 Gasparilla Pines Blvd\, Englewood\, FL 34224\, 3120 Gasparilla Pines Blvd.\, Englewood\, FL\, 34224\, United States
CATEGORIES:Community Event,General,LBC Member Event
ATTACH;FMTTYPE=image/jpeg:https://lemonbayconservancy.org/wp-content/uploads/2026/03/Rock-Painting-setup-scaled-e1775136961735.jpg
GEO:26.8816513;-82.3049401
X-APPLE-STRUCTURED-LOCATION;VALUE=URI;X-ADDRESS=Lemon Creek Wildflower Preserve 3120 Gasparilla Pines Blvd Englewood FL 34224 3120 Gasparilla Pines Blvd. Englewood FL 34224 United States;X-APPLE-RADIUS=500;X-TITLE=3120 Gasparilla Pines Blvd.:geo:-82.3049401,26.8816513
END:VEVENT
BEGIN:VEVENT
DTSTART;TZID=America/New_York:20260330T093000
DTEND;TZID=America/New_York:20260330T110000
DTSTAMP:20260423T023532
CREATED:20260223T155550Z
LAST-MODIFIED:20260223T155550Z
UID:10046392-1774863000-1774868400@lemonbayconservancy.org
SUMMARY:Lemon Bay Paddle from Indian Mound Park
DESCRIPTION:Paddle Lemon Bay launching from Indian Mound Park in Englewood.  Arrive at 9am and launching 9:30. bring kayak paddle PDF water and sun protection.  Sense of humor a must!  We will explore the waters crossing to Blind Pass bay. Weather and wind conditions will be carefully considered.  Paddle will last 1.5ish hours and will be a slow too moderate pace.  Good time for new paddlers and folks that have been saying that they should get out and use that kayak gathering dust.   You must provide your own paddle and safety equipment.  Participation limited to LBC Members and your accompanying guests.  Contact Charlie Woodruff for additional information. 914-299-0664.
URL:https://lemonbayconservancy.org/event/lemon-bay-paddle-from-indian-mound-park-3/
LOCATION:Indian Mound Park\, 210 Winson Ave\, Englewood\, FL\, 34223\, United States
CATEGORIES:Kayak,LBC Member Event
ATTACH;FMTTYPE=image/jpeg:https://lemonbayconservancy.org/wp-content/uploads/2023/04/LBC-Earth-Day-Kayaking-April-2023-scaled.jpg
GEO:26.9569438;-82.3627556
X-APPLE-STRUCTURED-LOCATION;VALUE=URI;X-ADDRESS=Indian Mound Park 210 Winson Ave Englewood FL 34223 United States;X-APPLE-RADIUS=500;X-TITLE=210 Winson Ave:geo:-82.3627556,26.9569438
END:VEVENT
BEGIN:VEVENT
DTSTART;TZID=America/New_York:20260406T093000
DTEND;TZID=America/New_York:20260406T110000
DTSTAMP:20260423T023532
CREATED:20260223T172536Z
LAST-MODIFIED:20260223T210307Z
UID:10046394-1775467800-1775473200@lemonbayconservancy.org
SUMMARY:Snook Haven Paddle
DESCRIPTION:An event for LBC members and accompanying guests.  We will paddle Snook Haven at 9:30am.  Paddling from the Kayak and Small Boat Launch\, located at 4076 East Venice Ave\, Venice 33292.  Please bring your kayak\, paddle\, personal flotation device\, water\, sunscreen\, sense of humor and snack/lunch.   Advance reservations and liability waiver required.  Reserve your spot by texting Charlie Woodruff  914-299-0664.
URL:https://lemonbayconservancy.org/event/snook-haven/
LOCATION:4076 East Venice Ave\, Venice 33292\, 4076 East Venice Ave\, Venice\, FL\, 33292\, United States
CATEGORIES:Kayak,LBC Member Event
ATTACH;FMTTYPE=image/jpeg:https://lemonbayconservancy.org/wp-content/uploads/2023/04/LBC-Earth-Day-Kayaking-April-2023-scaled.jpg
GEO:26.7765078;-82.2659765
X-APPLE-STRUCTURED-LOCATION;VALUE=URI;X-ADDRESS=4076 East Venice Ave Venice 33292 4076 East Venice Ave Venice FL 33292 United States;X-APPLE-RADIUS=500;X-TITLE=4076 East Venice Ave:geo:-82.2659765,26.7765078
END:VEVENT
BEGIN:VEVENT
DTSTART;TZID=America/New_York:20260410T163000
DTEND;TZID=America/New_York:20260410T183000
DTSTAMP:20260423T023532
CREATED:20260408T160610Z
LAST-MODIFIED:20260408T160610Z
UID:10046420-1775838600-1775845800@lemonbayconservancy.org
SUMMARY:Indian Mound Paddle
DESCRIPTION:We are thrilled to be offering 2 pop up paddles!  First will be Friday\, April 10th at Indian Mound in Englewood starting at 4:30 PM.  We will paddle up the east side of Lemon Bay and cross to Middle Beach back bay and return\, exploring new spring growth in the water and plants.  Following the paddle will be a “sit\, snack and sip” to maybe enjoy a happy hour beverage.  Please bring kayak\, paddle\, water\, safety equipment\, chair\, snack\, beverage\, and some excitement.  Advance reservations are required!  Please text Charlie at 914 799 0664.
URL:https://lemonbayconservancy.org/event/indian-mound-paddle/
LOCATION:Indian Mound Park\, 210 Winson Ave\, Englewood\, FL\, 34223\, United States
CATEGORIES:Kayak,LBC Member Event
ATTACH;FMTTYPE=image/jpeg:https://lemonbayconservancy.org/wp-content/uploads/2015/07/6-STEM_Camp_kayaking.jpg
GEO:26.9569438;-82.3627556
X-APPLE-STRUCTURED-LOCATION;VALUE=URI;X-ADDRESS=Indian Mound Park 210 Winson Ave Englewood FL 34223 United States;X-APPLE-RADIUS=500;X-TITLE=210 Winson Ave:geo:-82.3627556,26.9569438
END:VEVENT
BEGIN:VEVENT
DTSTART;TZID=America/New_York:20260413T093000
DTEND;TZID=America/New_York:20260413T233000
DTSTAMP:20260423T023532
CREATED:20260410T162726Z
LAST-MODIFIED:20260413T160121Z
UID:10046422-1776072600-1776123000@lemonbayconservancy.org
SUMMARY:Boca Grande Paddle
DESCRIPTION:Come enjoy the amazing spring weather on the water!  We will launch at the Boca Grande Fishing Pier at 5800 Gasparilla Rd.\, Boca Grande.  This has been the season favorite paddle!  Please bring a kayak or paddleboard\, PFD\, sunscreen\, water\, sense of humor\, a snack and $6 for the bridge toll.  Registration is required!  Please text Charlie at 914 799 0664 (* not 941) for questions and sign up.  NOTE:  The Pier is closed but the kayak launch is open.   \n 
URL:https://lemonbayconservancy.org/event/boca-grande-paddle-3/
LOCATION:Boca Grand Fishing Pier\, 5810 Gasparilla Rd.\, Boca Grande\, FL\, 33946\, United States
CATEGORIES:Kayak,LBC Member Event
ATTACH;FMTTYPE=image/jpeg:https://lemonbayconservancy.org/wp-content/uploads/2026/04/Kayak-paddleboard-photo.jpg
GEO:26.7765078;-82.2659765
X-APPLE-STRUCTURED-LOCATION;VALUE=URI;X-ADDRESS=Boca Grand Fishing Pier 5810 Gasparilla Rd. Boca Grande FL 33946 United States;X-APPLE-RADIUS=500;X-TITLE=5810 Gasparilla Rd.:geo:-82.2659765,26.7765078
END:VEVENT
BEGIN:VEVENT
DTSTART;TZID=America/New_York:20260415T120000
DTEND;TZID=America/New_York:20260416T120000
DTSTAMP:20260423T023532
CREATED:20260321T214632Z
LAST-MODIFIED:20260321T214632Z
UID:10046416-1776254400-1776340800@lemonbayconservancy.org
SUMMARY:2026 Giving Challenge
DESCRIPTION:The 2026 Giving Challenge offers a great opportunity to triple the impact of your gift to LBC!  All donations must be made online between noon on April 15th and noon on April 16th. \nPlease click on our post below for all the details: \nThe 2026 Giving Challenge: Support LBC and Triple Your Gift!
URL:https://lemonbayconservancy.org/event/2026-giving-challenge/
LOCATION:— online event —
CATEGORIES:Community Event,Fundraiser,General
ATTACH;FMTTYPE=image/jpeg:https://lemonbayconservancy.org/wp-content/uploads/2026/03/2026-LBC-Giving-Challenge-Cover-optioin-1.jpg
ORGANIZER;CN="Lemon Bay Conservancy":MAILTO:lbconservancy@comcast.net
END:VEVENT
BEGIN:VEVENT
DTSTART;TZID=America/New_York:20260420T090000
DTEND;TZID=America/New_York:20260420T230000
DTSTAMP:20260423T023532
CREATED:20260408T161707Z
LAST-MODIFIED:20260413T160152Z
UID:10046421-1776675600-1776726000@lemonbayconservancy.org
SUMMARY:Don Pedro State Park Paddle
DESCRIPTION:The 2nd of our April Pop-up Paddles will be Monday\, April 20th at Don Pedro State Park on Placida Rd.  Try to arrive a little before 9 and launch when everyone is in the water together.  There is a bit of a walk to the water from the parking lot\, bring a cart to transport your kayak if possible.  Bring lunch to enjoy after the paddle and don’t forget your water\, safety equipment\, and some excitement.  Advance reservations are required!  Please text Charlie at 914-799-0664.
URL:https://lemonbayconservancy.org/event/don-pedro-state-park-paddle/
LOCATION:Don Pedro Island State Park\, 8450 Placida Rd\, Cape Haze\, FL\, 33946
CATEGORIES:Kayak,LBC Member Event
ATTACH;FMTTYPE=image/jpeg:https://lemonbayconservancy.org/wp-content/uploads/2015/07/6-STEM_Camp_kayaking.jpg
GEO:26.8574125;-82.3004792
X-APPLE-STRUCTURED-LOCATION;VALUE=URI;X-ADDRESS=Don Pedro Island State Park 8450 Placida Rd Cape Haze FL 33946;X-APPLE-RADIUS=500;X-TITLE=8450 Placida Rd:geo:-82.3004792,26.8574125
END:VEVENT
BEGIN:VEVENT
DTSTART;TZID=America/New_York:20260424T080000
DTEND;TZID=America/New_York:20260424T110000
DTSTAMP:20260423T023532
CREATED:20260327T152536Z
LAST-MODIFIED:20260330T163509Z
UID:10046417-1777017600-1777028400@lemonbayconservancy.org
SUMMARY:Florida Arbor Day:  Plant a Free Tree!
DESCRIPTION:With funding support from the Florida Forest Service and Sandhill Native Growers of Acadia\, Lemon Bay Conservancy is hosting a free tree giveaway on Friday\, April 24\, beginning at 8:00 am for homeowners in Englewood and surrounding areas. \nA total of 100 trees and shrubs in 3-gallon containers will be available\, with a limit of one per household. First Come\, First Served! \nTree Species include: \nRed Maple – Acer rubrum\nAmerica Beautyberry – Callicarpa americana\nSea Grape- Coccoloba uvifera\nFirebush – Hamelia patens\nDahoon Holly – Ilex cassine\nSouthern Red Cedar- Juniperus virginiana\nSweetbay Magnolia- Magnolia virginiana\nLongleaf Pine- Pinus palustris\nLive Oak- Quesrcus virginiana\nAmerican Elm- Ulmus americana \n  \n 
URL:https://lemonbayconservancy.org/event/florida-arbor-day-plant-a-free-tree-2/
LOCATION:Lemon Creek Wildflower Preserve\, 3120 Gasparilla Pines Blvd\, Englewood\, FL 34224\, 3120 Gasparilla Pines Blvd.\, Englewood\, FL\, 34224\, United States
CATEGORIES:Community Event,Educational
ATTACH;FMTTYPE=image/png:https://lemonbayconservancy.org/wp-content/uploads/2026/03/Lemon-Creek-Wildflower-Preserve-Arbor-Day-F.png
ORGANIZER;CN="Lemon Bay Conservancy":MAILTO:lbconservancy@comcast.net
GEO:26.8816513;-82.3049401
X-APPLE-STRUCTURED-LOCATION;VALUE=URI;X-ADDRESS=Lemon Creek Wildflower Preserve 3120 Gasparilla Pines Blvd Englewood FL 34224 3120 Gasparilla Pines Blvd. Englewood FL 34224 United States;X-APPLE-RADIUS=500;X-TITLE=3120 Gasparilla Pines Blvd.:geo:-82.3049401,26.8816513
END:VEVENT
END:VCALENDAR