BEGIN:VCALENDAR
VERSION:2.0
PRODID:-//Lemon Bay Conservancy - ECPv6.15.18//NONSGML v1.0//EN
CALSCALE:GREGORIAN
METHOD:PUBLISH
X-ORIGINAL-URL:https://lemonbayconservancy.org
X-WR-CALDESC:Events for Lemon Bay Conservancy
REFRESH-INTERVAL;VALUE=DURATION:PT1H
X-Robots-Tag:noindex
X-PUBLISHED-TTL:PT1H
BEGIN:VTIMEZONE
TZID:America/New_York
BEGIN:STANDARD
TZOFFSETFROM:-0500
TZOFFSETTO:-0500
TZNAME:EST
DTSTART:20260101T000000
END:STANDARD
END:VTIMEZONE
BEGIN:VEVENT
DTSTART;TZID=America/New_York:00241001T090000
DTEND;TZID=America/New_York:20240806T103000
DTSTAMP:20260425T070858
CREATED:20240826T172510Z
LAST-MODIFIED:20240826T172510Z
UID:10001839--61386130800-1722940200@lemonbayconservancy.org
SUMMARY:Wildflower 101: Introduction to the Preserve Guided Walk
DESCRIPTION:Join Paul Townsend for his monthly “Wildflower 101” introductory guided walk beginning at 9 am.  During this is a short\, casually-paced walk at Lemon Creek Wildflower Preserve\, you can expect to see upland and wading birds\, native and Florida friendly plants\, butterflies and other insects\, freshwater and brackish pond water environments\, and the Labyrinth on the Hill.   \nThe preserve address is 3120 Gasparilla Pines Blvd\, Englewood 34224. \n\nWhen visiting the Preserve\, closed-toe walking shoes\, a hat\, sunscreen\, and bug spray are suggested.  A water bottle\, camera\, and binoculars are also encouraged. \n\nEveryone is welcome to attend\, please feel free to invite your friends\, neighbors\, and family to come along and enjoy the early morning sights and sounds. 
URL:https://lemonbayconservancy.org/event/wildflower-101-introduction-to-the-preserve-guided-walk/
LOCATION:Lemon Creek Wildflower Preserve\, 3120 Gasparilla Pines Blvd\, Englewood\, FL 34224\, 3120 Gasparilla Pines Blvd.\, Englewood\, FL\, 34224\, United States
CATEGORIES:Community Event,General,Nature Walk
ATTACH;FMTTYPE=image/jpeg:https://lemonbayconservancy.org/wp-content/uploads/2023/08/LCWP-Trail-Map-Jan2023-scaled.jpg
GEO:26.8816513;-82.3049401
X-APPLE-STRUCTURED-LOCATION;VALUE=URI;X-ADDRESS=Lemon Creek Wildflower Preserve 3120 Gasparilla Pines Blvd Englewood FL 34224 3120 Gasparilla Pines Blvd. Englewood FL 34224 United States;X-APPLE-RADIUS=500;X-TITLE=3120 Gasparilla Pines Blvd.:geo:-82.3049401,26.8816513
END:VEVENT
BEGIN:VEVENT
DTSTART;TZID=America/New_York:20230711T090000
DTEND;TZID=America/New_York:20230711T110000
DTSTAMP:20260425T070858
CREATED:20230705T190743Z
LAST-MODIFIED:20230705T191005Z
UID:10000230-1689066000-1689073200@lemonbayconservancy.org
SUMMARY:Rock Gardening Workshop
DESCRIPTION:You are invited to join us for our ongoing rock painting series. This workshop will be held at the Sanctuary at Cape Haze Condominiums Clubhouse\, located at 6610 Gasparilla Pines Boulevard\, Englewood\, Fl throughout the summer months. We will provide paint\, brushes\, some cocktail napkins\, mod podge for decoupage\, and a couple different types of acrylic pens for group use. Of course\, you are welcome to and may want to bring your personal supplies as well. Participants are encouraged to bring rocks or shells to decorate. River rocks are ideal\, because they take paint well and are easier to draw on. Parchment paper is also good to work on \, so be sure to bring a sheet or two along with you if you wish. We will have paper towels\, garbage bags\, and a few coloring books to use as examples for drawing. Decoupage takes a bit of time to dry\, so our workshop instructor Bonnie Stuhlmiller will take these items home to coat with spray. Participants will need to make arrangements for pick up or for donation of their finished rocks to be used at the Labyrinth on the Hill rock garden. Everyone is welcome to participate and bring along creative ideas and scissors if you have them.
URL:https://lemonbayconservancy.org/event/11417/
LOCATION:6610 Gasparilla Pines Boulevard\, 6610 Gasparilla Pines Blvd.\, Englewood\, FL\, 34224\, United States
ATTACH;FMTTYPE=image/jpeg:https://lemonbayconservancy.org/wp-content/uploads/2023/04/68edca18bb602b3dd0da4ef01006b0a6.jpg
GEO:26.8776763;-82.3025887
X-APPLE-STRUCTURED-LOCATION;VALUE=URI;X-ADDRESS=6610 Gasparilla Pines Boulevard 6610 Gasparilla Pines Blvd. Englewood FL 34224 United States;X-APPLE-RADIUS=500;X-TITLE=6610 Gasparilla Pines Blvd.:geo:-82.3025887,26.8776763
END:VEVENT
BEGIN:VEVENT
DTSTART;TZID=America/New_York:20230712T183000
DTEND;TZID=America/New_York:20230712T200000
DTSTAMP:20260425T070858
CREATED:20230712T140742Z
LAST-MODIFIED:20230712T140742Z
UID:10000233-1689186600-1689192000@lemonbayconservancy.org
SUMMARY:Summer Evening Walk
DESCRIPTION:On Wednesday\, July 12th\, from 6:30 pm to 8:00 pm\, Tonya and Steve Bramlage will guide a tranquil walk through the Lemon Creek Wildflower Preserve at 3120 Gasparilla Pines Boulevard\, Englewood\, Fl.  Everyone is invited to come along as together we explore and discover the many sights of summer evenings at the Preserve. Observing the vast array of native plants and wildlife seen only in the summer months\, this evening walk is open to the public and the perfect opportunity to watch the sun go down at the Preserve. Remember to wear bug spray\, a hat\, comfortable walking shoes\, and be sure to bring along your water bottle\, a friend\, your camera\, and binoculars.
URL:https://lemonbayconservancy.org/event/summer-evening-walk/
LOCATION:Lemon Creek Wildflower Preserve\, 3120 Gasparilla Pines Blvd\, Englewood\, FL 34224\, 3120 Gasparilla Pines Blvd.\, Englewood\, FL\, 34224\, United States
CATEGORIES:Community Event,General,Nature Walk
ATTACH;FMTTYPE=image/jpeg:https://lemonbayconservancy.org/wp-content/uploads/2016/08/A-Aug2016_0020.jpg
GEO:26.8816513;-82.3049401
X-APPLE-STRUCTURED-LOCATION;VALUE=URI;X-ADDRESS=Lemon Creek Wildflower Preserve 3120 Gasparilla Pines Blvd Englewood FL 34224 3120 Gasparilla Pines Blvd. Englewood FL 34224 United States;X-APPLE-RADIUS=500;X-TITLE=3120 Gasparilla Pines Blvd.:geo:-82.3049401,26.8816513
END:VEVENT
BEGIN:VEVENT
DTSTART;TZID=America/New_York:20230723T090000
DTEND;TZID=America/New_York:20230723T100000
DTSTAMP:20260425T070858
CREATED:20230718T185950Z
LAST-MODIFIED:20230718T185950Z
UID:10000235-1690102800-1690106400@lemonbayconservancy.org
SUMMARY:Guided Walk at Lemon Creek Wildflower Preserve
DESCRIPTION:  \nOn Sunday\, July 23rd from 9:00 am to 10:am Tonya and Steve Bramlage will guide a short walk through the heart of Lemon Creek Wildflower Preserve at 3120 Gasparilla Pines Boulevard\, Englewood\, Fl. This walk is open to the public and an ideal opportunity to come out and see the unique ecology that can be found at the Preserve. This walk is sure  to provide special summer sights and a host of hidden delights. Remember to wear sunscreen\, bug spray\, a hat\, comfortable walking shoes. Be sure to bring along your water bottle and a friend! \n 
URL:https://lemonbayconservancy.org/event/guided-walk-at-lemon-creek-wildflower-preserve/
LOCATION:Lemon Creek Wildflower Preserve\, 3120 Gasparilla Pines Blvd\, Englewood\, FL 34224\, 3120 Gasparilla Pines Blvd.\, Englewood\, FL\, 34224\, United States
CATEGORIES:Community Event,General,Nature Walk
ATTACH;FMTTYPE=image/jpeg:https://lemonbayconservancy.org/wp-content/uploads/2023/07/61B26720-EB80-459A-BFC7-5B0142F1F7D0-scaled.jpeg
GEO:26.8816513;-82.3049401
X-APPLE-STRUCTURED-LOCATION;VALUE=URI;X-ADDRESS=Lemon Creek Wildflower Preserve 3120 Gasparilla Pines Blvd Englewood FL 34224 3120 Gasparilla Pines Blvd. Englewood FL 34224 United States;X-APPLE-RADIUS=500;X-TITLE=3120 Gasparilla Pines Blvd.:geo:-82.3049401,26.8816513
END:VEVENT
END:VCALENDAR